BEGIN:VCALENDAR
VERSION:2.0
PRODID:-//Prospera - ECPv6.15.17.1//NONSGML v1.0//EN
CALSCALE:GREGORIAN
METHOD:PUBLISH
X-WR-CALNAME:Prospera
X-ORIGINAL-URL:https://prosperacoops.org
X-WR-CALDESC:Events for Prospera
REFRESH-INTERVAL;VALUE=DURATION:PT1H
X-Robots-Tag:noindex
X-PUBLISHED-TTL:PT1H
BEGIN:VTIMEZONE
TZID:UTC
BEGIN:STANDARD
TZOFFSETFROM:+0000
TZOFFSETTO:+0000
TZNAME:UTC
DTSTART:20210101T000000
END:STANDARD
END:VTIMEZONE
BEGIN:VEVENT
DTSTART;TZID=UTC:20220908T180000
DTEND;TZID=UTC:20221201T210000
DTSTAMP:20260426T012354
CREATED:20220712T185727Z
LAST-MODIFIED:20220712T185947Z
UID:9093-1662660000-1669928400@prosperacoops.org
SUMMARY:Explora tu cooperativa. Liderazgo\, Emprendimiento y Cooperativismo
DESCRIPTION:VEN Y DESCUBRE NUEVAS OPORTUNIDADES PARA TU FUTURO  \nTodos los Jueves del 8 de septiembre a 1 de diciembre del 2022 de 6pm a 9pm en PST por Zoom \n3 sesiones serán en persona en Oakland\, CA. Prospera seguirá las recomendaciones sanitarias debido al COVID con la prioridad de mantener la salud\, la seguridad y el bienestar de participantes\, personal y facilitadoras en las sesiones que sean en persona.  \nAl final de las 12 sesiones del programa habrás: \n\nAprendido sobre el modelo de negocios de cooperativas de trabajadores y su ecosistema\nAprendido herramientas para comunicarse efectivamente\nEvaluado si quieres iniciar o unirte a una cooperativa\nTerminado el primer borrador tu plan de negocios\nGanado tu lugar para avanzar en un curso avanzado de Plan de Negocios y mucho más!\n\n¡El curso es GRATUITO con un valor estimado de $1\,500! Tenemos cupo limitado¡ \nPara más información: explora@prosperacoops.org – (510) 960-9427 – prosperacoops.org
URL:https://prosperacoops.org/event/explora-tu-cooperativa-liderazgo-emprendimiento-y-cooperativismo-2/
LOCATION:ON-LINE\, United States
CATEGORIES:Prospera
ATTACH;FMTTYPE=image/png:https://prosperacoops.org/wp-content/uploads/2022/07/TEMPLATES-Flyer-Explora-tu-Cooperativa-Online-Sep-2022-Print-Banner-horizontal.png
ORGANIZER;CN="Prospera":MAILTO:info@prosperacoops.org
END:VEVENT
BEGIN:VEVENT
DTSTART;TZID=UTC:20220922T193000
DTEND;TZID=UTC:20220922T204000
DTSTAMP:20260426T012354
CREATED:20220912T174507Z
LAST-MODIFIED:20220912T174507Z
UID:9218-1663875000-1663879200@prosperacoops.org
SUMMARY:Panel Virtual: "Cooperativistas del Área de la Bahía de California"
DESCRIPTION:¿Conoces los negocios cooperativos? \n¿Sabías que puedes fundar uno\, unirte a uno o convertir un negocio tradicional a uno cooperativo? \n¿Quieres conectar con mujeres cooperativistas y conocer sus experiencias? \nTe invitamos al Panel Virtual: “Cooperativistas del Área de la Bahía de California” este próximo Jueves 22 de septiembre del 2022 a las 7.30pm PST a través de Facebook Live de Prospera. Conéctate con la realidad de la cooperación y de la comunidad ante oportunidades locales de una economía social y solidaria\, escuchando de la voz de mujeres emprendedoras que viven con entusiasmo y perseverancia el cooperativismo en sus negocios. \nLas panelistas que nos acompañarán son:  \n\nDaniella Preisler\, Colmenar Consulting\nDulce Gutierrez\, Arizmendi Bakery
URL:https://prosperacoops.org/event/panel-virtual-cooperativistas-del-area-de-la-bahia-de-california/
LOCATION:ON-LINE\, United States
CATEGORIES:Prospera
ATTACH;FMTTYPE=image/jpeg:https://prosperacoops.org/wp-content/uploads/2022/09/Cara-Flyer-Panel-Virtual-Cooperativismo-Septiembre-2022.jpg
ORGANIZER;CN="Prospera":MAILTO:info@prosperacoops.org
END:VEVENT
END:VCALENDAR