BEGIN:VCALENDAR
VERSION:2.0
PRODID:-//Prospera - ECPv6.15.17.1//NONSGML v1.0//EN
CALSCALE:GREGORIAN
METHOD:PUBLISH
X-WR-CALNAME:Prospera
X-ORIGINAL-URL:https://prosperacoops.org
X-WR-CALDESC:Events for Prospera
REFRESH-INTERVAL;VALUE=DURATION:PT1H
X-Robots-Tag:noindex
X-PUBLISHED-TTL:PT1H
BEGIN:VTIMEZONE
TZID:UTC
BEGIN:STANDARD
TZOFFSETFROM:+0000
TZOFFSETTO:+0000
TZNAME:UTC
DTSTART:20220101T000000
END:STANDARD
END:VTIMEZONE
BEGIN:VEVENT
DTSTART;TZID=UTC:20230323T183000
DTEND;TZID=UTC:20230323T200000
DTSTAMP:20260424T161017
CREATED:20230316T230021Z
LAST-MODIFIED:20230316T230634Z
UID:9896-1679596200-1679601600@prosperacoops.org
SUMMARY:Panel Virtual: "Mujeres viviendo el cooperativismo\,  y compartiendo aprendizajes"
DESCRIPTION:FECHA: Jueves 23 de marzo del 2023 \nHORARIO: 6:30 pm a 8:00 pm Horario del Pacifico \n¿DONDE?: Facebook Live\, perfil de Prospera \nDESCRIPCIÓN: ¿Te gustaría escuchar sobre cooperativas exitosas con miembras de nuestras comunidades?¿Quieres conectar con el movimiento cooperativo y conocer experiencias de mujeres inspiradoras que viven y se apasionan en estos proyectos? Te invitamos a participar de una conversación sobre la vivencia de negocios cooperativos\, la oportunidad de una economía alternativa\, el arte de su gobernanza\, sus retos\, sus beneficios y sobre todo su experiencia\, que puede ser tan similar y tan diferente a la tuya/nuestra propia. \nINVITADAS:  \nYandi Zobeida Condado Martinez\, Miembra y Presidenta del Consejo de Administración de la Cooperativa Kanut \nKANUT\, es una cooperativa autónoma que elabora productos de cacahuate 100% naturales\, la cual trabaja solidariamente en equipo\, comprometida con: el medio ambiente\, campesinos y sus integrantes. En búsqueda del desarrollo personal y comunitario. Kanut se encuentra localizada en Puebla\, México \n____________________ \nMaria Ramirez\, Líder de Marketing y co-fundadora de META LLC \nMETA es una cooperativa de once mujeres que comenzaron como voluntarias en la comunidad de Somos Mayfair en San Jose\, California\, ellas ofrecen y facilitan la provisión de recursos que otras entidades ofrecen a la población . También apoyan en la lucha e implementación de los derechos de los estudiantes y la  educación de calidad en las escuelas del área. Con experiencia de más de 15 años en este vínculo que nace de la necesidad de nuestra comunidad \, todo esto las ha inspirado a acrecentar su pasión y soldar nuestro compromiso con la comunidad misma. 
URL:https://prosperacoops.org/event/panel-virtual-mujeres-viviendo-el-cooperativismo-y-compartiendo-aprendizajes/
LOCATION:ON-LINE\, United States
CATEGORIES:Prospera
ATTACH;FMTTYPE=image/jpeg:https://prosperacoops.org/wp-content/uploads/2023/03/Banner-Flyer-Post-Panel-Mujeres-cooperativistas-inspiracion-y-aprendizajes-Explora-Sesion-4-Marzo-2023.jpg
ORGANIZER;CN="Prospera":MAILTO:info@prosperacoops.org
END:VEVENT
END:VCALENDAR