BEGIN:VCALENDAR
VERSION:2.0
PRODID:-//Prospera - ECPv6.15.17.1//NONSGML v1.0//EN
CALSCALE:GREGORIAN
METHOD:PUBLISH
X-ORIGINAL-URL:https://prosperacoops.org
X-WR-CALDESC:Events for Prospera
REFRESH-INTERVAL;VALUE=DURATION:PT1H
X-Robots-Tag:noindex
X-PUBLISHED-TTL:PT1H
BEGIN:VTIMEZONE
TZID:UTC
BEGIN:STANDARD
TZOFFSETFROM:+0000
TZOFFSETTO:+0000
TZNAME:UTC
DTSTART:20220101T000000
END:STANDARD
END:VTIMEZONE
BEGIN:VEVENT
DTSTART;TZID=UTC:20230405T180000
DTEND;TZID=UTC:20230405T200000
DTSTAMP:20260423T233401
CREATED:20230314T223849Z
LAST-MODIFIED:20230314T223849Z
UID:9879-1680717600-1680724800@prosperacoops.org
SUMMARY:Lanzamiento de su Cooperativa: Acuerdos Operativos y Registro de su LLC
DESCRIPTION:Descripción del taller:  \nPresentaremos información sobre lo que se necesita para lanzar una cooperativa\, con enfoque en cooperativas de inmigrantes. También daremos información sobre como registrar su negocio como LLC y lo que se necesita incluir en un Acuerdo de Operaciones.  \nPresentadores: Tobias Damm-Lurh/Itzel Nuño \nBio: Tobias es abogado en el Centro Legal de Economías Sostenibles y se centra en bienes raíces de propiedad comunitaria y cooperativas de trabajadores. Tobias es un apasionado de la justicia racial y económica y de trabajar con comunidades de inmigrantes. A través de su trabajo en el Centro Legal de Economías Sostenibles\, Tobias tiene como objetivo fortalecer los esfuerzos contra el desplazamiento\, particularmente para las comunidades de color\, y ayudar a facilitar la propiedad democrática de los lugares de trabajo para permitir que los trabajadores obtengan el máximo beneficio de su trabajo.  \nBio: Itzel es Coordinadora de Proyectos en el Centro Legal de Economías Sostenibles. Su enfoque es en cooperativas de inmigrantes y otros tipos de trabajos democráticos. Itzel valora que los trabajadores tengan voz en sus lugares de trabajo y puedan defender sus necesidades. Antes de trabajar en el Centro Legal de Economías Sostenibles\, Itzel trabajó en una organización de derechos del inmigrante y está muy emocionada de poder seguir trabajando con la comunidad.   
URL:https://prosperacoops.org/event/lanzamiento-de-su-cooperativa-acuerdos-operativos-y-registro-de-su-llc/
LOCATION:ON-LINE\, United States
CATEGORIES:Prospera
ATTACH;FMTTYPE=image/png:https://prosperacoops.org/wp-content/uploads/2023/03/1.png
ORGANIZER;CN="Prospera":MAILTO:info@prosperacoops.org
END:VEVENT
END:VCALENDAR