BEGIN:VCALENDAR
VERSION:2.0
PRODID:-//Prospera - ECPv6.15.17.1//NONSGML v1.0//EN
CALSCALE:GREGORIAN
METHOD:PUBLISH
X-ORIGINAL-URL:https://prosperacoops.org
X-WR-CALDESC:Events for Prospera
REFRESH-INTERVAL;VALUE=DURATION:PT1H
X-Robots-Tag:noindex
X-PUBLISHED-TTL:PT1H
BEGIN:VTIMEZONE
TZID:UTC
BEGIN:STANDARD
TZOFFSETFROM:+0000
TZOFFSETTO:+0000
TZNAME:UTC
DTSTART:20220101T000000
END:STANDARD
END:VTIMEZONE
BEGIN:VEVENT
DTSTART;TZID=UTC:20230503T180000
DTEND;TZID=UTC:20230503T200000
DTSTAMP:20260424T042421
CREATED:20230420T171008Z
LAST-MODIFIED:20230421T190627Z
UID:9945-1683136800-1683144000@prosperacoops.org
SUMMARY:Listas para las subvenciones
DESCRIPTION:Descripción del taller: En este taller los participantes aprenderán información clave para solicitar subvenciones para su negocio. Identificaremos los requisitos\, los documentos y preguntas necesarias para aplicar.  \nPresentadora: Ginelle Curincita \nBio: Ginelle es una empresaria latina\, nativa del Área de la Bahía de herencia mexicana. Sus experiencias combinadas de trabajo en educación\, diversidad e inclusión\, y desarrollo de pequeñas empresas la llevaron a lanzar su propia empresa OroMar Consulting durante la pandemia. Ginelle trabajó más recientemente para Renaissance Entrepreneurship Center\, donde supervisó consultores\, talleres y fondos de ayuda para subvenciones y préstamos para empresas propiedad de mujeres y minorías. Antes de ingresar al ecosistema de las pequeñas empresas\, Ginelle trabajó en UC Berkeley como trabajadora social. Actualmente vive en Colorado Springs con sus hijas y su esposo.
URL:https://prosperacoops.org/event/listas-para-las-subvenciones-2/
LOCATION:ON-LINE\, United States
CATEGORIES:Prospera
ATTACH;FMTTYPE=image/png:https://prosperacoops.org/wp-content/uploads/2023/04/4.png
ORGANIZER;CN="Prospera":MAILTO:info@prosperacoops.org
END:VEVENT
END:VCALENDAR