BEGIN:VCALENDAR
VERSION:2.0
PRODID:-//Prospera - ECPv6.15.17.1//NONSGML v1.0//EN
CALSCALE:GREGORIAN
METHOD:PUBLISH
X-ORIGINAL-URL:https://prosperacoops.org
X-WR-CALDESC:Events for Prospera
REFRESH-INTERVAL;VALUE=DURATION:PT1H
X-Robots-Tag:noindex
X-PUBLISHED-TTL:PT1H
BEGIN:VTIMEZONE
TZID:UTC
BEGIN:STANDARD
TZOFFSETFROM:+0000
TZOFFSETTO:+0000
TZNAME:UTC
DTSTART:20220101T000000
END:STANDARD
END:VTIMEZONE
BEGIN:VEVENT
DTSTART;TZID=UTC:20230511T180000
DTEND;TZID=UTC:20230511T210000
DTSTAMP:20260424T011340
CREATED:20230413T212457Z
LAST-MODIFIED:20230613T203729Z
UID:9928-1683828000-1683838800@prosperacoops.org
SUMMARY:CURSO LLENO  - Curso: Plan de Negocios
DESCRIPTION:Descripción del taller:  \nEn Prospera reconocemos la necesidad de crear economías nuevas\, solidarias y humanas. Al mismo tiempo que a través de la cooperación y la colectividad plantamos semillas de una economía alternativa\, también promovemos el aprendizaje de herramientas tradicionales como lo es el plan de negocios\, pues es la base del lanzamiento y crecimiento de tu negocio\, sea este cooperativo o convencional.  \nEl plan de negocios te guía por cada etapa y administración de tu empresa. Te sirve como un mapa para estructurar\, operar y hacer crecer tu negocio además de que te ayuda a presentar tu negocio a inversores y aceleradoras. Establece las metas y expectativas a corto\, mediano y largo plazo\, así como las estrategias a seguir para llegar a ellas. \nAprenderemos: \n\nMentalidad emprendedora\, Visión\, Misión y Valores de tu negocio\nAnálisis de mercado: Industria\, clientes y competencia\nDefinición de productos y servicios\, propuesta de valor\, estrategia de marketing\nOperaciones y actividades claves\, plan de producción\nEntendimiento financiero\, plan de metas financieras\, punto de equilibrio\, y opciones de acceso a capital\nFinanzas empresariales: estado de pérdidas y ganancias\, proyecciones\, y opciones de acceso a capital\nFormalización de tu negocio y detalles para presentar tu plan de negocios\n\nPresentadoras:  \n\nAna Castaño (Coordinadora de desarrollo empresarial) \nAnahi Rojas (Manager de programas)\nTania Figueroa  (Coordinadora de desarrollo empresarial)\n\n 
URL:https://prosperacoops.org/event/curso-plan-de-negocios/
LOCATION:ON-LINE\, United States
CATEGORIES:Prospera
ATTACH;FMTTYPE=image/png:https://prosperacoops.org/wp-content/uploads/2023/04/Plan-de-negocios-primavera-2023-Portada-para-Facebook.png
ORGANIZER;CN="Prospera":MAILTO:info@prosperacoops.org
END:VEVENT
END:VCALENDAR