BEGIN:VCALENDAR
VERSION:2.0
PRODID:-//Prospera - ECPv6.15.17.1//NONSGML v1.0//EN
CALSCALE:GREGORIAN
METHOD:PUBLISH
X-ORIGINAL-URL:https://prosperacoops.org
X-WR-CALDESC:Events for Prospera
REFRESH-INTERVAL;VALUE=DURATION:PT1H
X-Robots-Tag:noindex
X-PUBLISHED-TTL:PT1H
BEGIN:VTIMEZONE
TZID:UTC
BEGIN:STANDARD
TZOFFSETFROM:+0000
TZOFFSETTO:+0000
TZNAME:UTC
DTSTART:20220101T000000
END:STANDARD
END:VTIMEZONE
BEGIN:VEVENT
DTSTART;TZID=UTC:20230621T180000
DTEND;TZID=UTC:20230621T200000
DTSTAMP:20260423T054222
CREATED:20230515T192628Z
LAST-MODIFIED:20230515T192628Z
UID:9996-1687370400-1687377600@prosperacoops.org
SUMMARY:Lo que hay detrás de un Sitio Web
DESCRIPTION:Descripción del taller:  Ven a  familiarizarte con los diferentes elementos que componen un sitio web y prepara el contenido que deseas ver en tu página para después sólo vaciar en el servidor. Hablaremos de las diferentes opciones de alojamiento para tu página y cómo acceder a un domain name para tu negocio. \nPresentadora: Celia Álvarez Prado \nBio: Celia es emprendedora del negocio cooperativo DE COLORES C. CONSULTING junto a otras dos socias. Celia ha sido participante en los programas de Próspera como CRECE COMUNIDAD\, el Fellowship\, el comité LERF y también ha facilitado en línea los talleres de EXPLORA TU COOPERATIVA después que iniciara la pandemia. Es madre de dos jóvenes y le apasiona la música y el dibujo. \n 
URL:https://prosperacoops.org/event/lo-que-hay-detras-de-un-sitio-web-2/
LOCATION:ON-LINE\, United States
CATEGORIES:Prospera
ATTACH;FMTTYPE=image/png:https://prosperacoops.org/wp-content/uploads/2023/05/2-1.png
ORGANIZER;CN="Prospera":MAILTO:info@prosperacoops.org
END:VEVENT
END:VCALENDAR