BEGIN:VCALENDAR
VERSION:2.0
PRODID:-//Prospera - ECPv6.15.17.1//NONSGML v1.0//EN
CALSCALE:GREGORIAN
METHOD:PUBLISH
X-ORIGINAL-URL:https://prosperacoops.org
X-WR-CALDESC:Events for Prospera
REFRESH-INTERVAL;VALUE=DURATION:PT1H
X-Robots-Tag:noindex
X-PUBLISHED-TTL:PT1H
BEGIN:VTIMEZONE
TZID:UTC
BEGIN:STANDARD
TZOFFSETFROM:+0000
TZOFFSETTO:+0000
TZNAME:UTC
DTSTART:20230101T000000
END:STANDARD
END:VTIMEZONE
BEGIN:VEVENT
DTSTART;TZID=UTC:20240305T170000
DTEND;TZID=UTC:20240423T200000
DTSTAMP:20260424T160947
CREATED:20240109T190029Z
LAST-MODIFIED:20240109T190029Z
UID:10555-1709658000-1713902400@prosperacoops.org
SUMMARY:Curso: Explora Economías Alternativas
DESCRIPTION:Descripción: Este es un espacio de desaprendizaje y construcción\, hacia la posibilidad de contribuir a la creación de economías alternativas más justas y solidarias\, este curso donde nos reuniremos durante  3 horas cada semana a lo largo de 8 sesiones\,  está intencionado principalmente para emprendedoras latinas inmigrantes que hablan español\, sin embargo buscamos también la inclusión de otras personas con diferentes identidades de nuestros amplios ecosistemas\, que buscan iniciar un negocio.  En este espacio\, exploraremos cómo funciona el sistema en el que nos encontramos y las ventajas de observar valores y principios cooperativos para lanzar o unirse a negocios.  Evaluaremos nuestras opciones para llevar nuestro espíritu emprendedor al siguiente paso. Dentro de este curso\, se obtendrán algunas herramientas básicas para trazar el camino\, identificar tus fortalezas y unirlas a otras para acercarte o ampliar ese horizonte visionario. \nFechas de las sesiones y ubicación:  \n\n\n\n\n\n\n\n\nS1 Actitud y Disciplina \n\n\nMartes 03/05/2024 05:00 PM – 08:00 PM – Zoom Online \n\n\n\n\nS2 Poder y Privilegio \n\n\nMartes 03/12/2024 05:00 PM – 08:00 PM – Zoom Online \n\n\n\n\nS3 Comunicación efectiva y la toma de Decisiones \n\n\nMartes 03/22/2024 05:00 PM – 08:00 PM – Zoom Online \n\n\n\n\nS4 Coops 101 \n\n\nMartes 03/26/2024 05:00 PM – 08:00 PM – Zoom Online \n\n\n\n\nS5 Gobernanza\, ¿qué es\, cómo se hace? \n\n\nMartes 04/02/2024 05:00 PM – 08:00 PM – Zoom Online \n\n\n\n\nS6 Sistema Financiero \n\n\nMartes 04/09/2024 05:00 PM – 08:00 PM – Zoom Online \n\n\n\n\nS7 Experiencias y recursos para las economías alternativas \n\n\nMartes 04/16/2024 05:00 PM – 08:00 PM – Zoom Online \n\n\n\n\nS8 Celebración y reconocimiento de mi emprender \n\n\nMartes 04/23/2024 05:00 PM – 08:00 PM – Zoom Online \n\n\n\n\n\nInformación adicional:  \n\n\nEl curso se ofrece en español y es GRATIS con un valor estimado de $1\,500 \n\n\nSe aplica el curso llenando un formulario de interés y luego se dará seguimiento \n\n\nCelebraremos la graduación presencialmente en Junio 27 \n\n\nLlena tu formulario de Interes aquí! \nContacto para apoyo a pre-inscripción: \nElisa Santillan — elisa@prosperacoops.org \nCelia Alvarez – celia@prosperacoops.org
URL:https://prosperacoops.org/event/curso-explora-economias-alternativas-2/
LOCATION:ON-LINE\, United States
CATEGORIES:Prospera
ATTACH;FMTTYPE=image/png:https://prosperacoops.org/wp-content/uploads/2024/01/Explora-primavera-2024-Medium-Banner-US-Landscape.png
ORGANIZER;CN="Prospera":MAILTO:info@prosperacoops.org
END:VEVENT
BEGIN:VEVENT
DTSTART;TZID=UTC:20240417T180000
DTEND;TZID=UTC:20240417T200000
DTSTAMP:20260424T160947
CREATED:20240321T192442Z
LAST-MODIFIED:20240321T192442Z
UID:10707-1713376800-1713384000@prosperacoops.org
SUMMARY:Lanzamiento de su Cooperativa: Acuerdos Operativos y Registro de su LLC
DESCRIPTION:Descripción del taller:    \nPresentaremos información sobre lo que se necesita para lanzar una cooperativa\, con enfoque en cooperatives de inmigrantes. También daremos información sobre como registrar su negocio como LLC y lo que se necesita incluir en un Acuerdo de Operaciones. A última hora estaremos contestando preguntas de los participantes.  \nPresentador: Sustainable Economies Law Center ( SELC ) \nBio: \nTobias Damm-Luhr: Tobias Damm-Luhr es abogado en el Centro Legal de Economías Sostenibles y se centra en bienes raíces de propiedad comunitaria y cooperativas de trabajadores. Tobias es un apasionado de la justicia racial y económica y de trabajar con comunidades de inmigrantes. A través de su trabajo en el Centro Legal de Economías Sostenibles\, Tobias tiene como objetivo fortalecer los esfuerzos contra el desplazamiento\, particularmente para las comunidades de color\, y ayudar a facilitar la propiedad democrática de los lugares de trabajo para permitir que los trabajadores obtengan el máximo beneficio de su trabajo.  \nItzel Nuño: Itzel es Coordinadora de Proyectos en el Centro Legal de Economías Sostenibles. Su enfoque es en cooperativas de inmigrantes y otros tipos de trabajos democráticos. Itzel valora que los trabajadores tengan voz en sus lugares de trabajo y puedan defender sus necesidades. Antes de trabajar en el Centro Legal de Economías Sostenibles\, Itzel trabajó en una organización de derechos del inmigrante y está muy emocionada de poder seguir trabajando con la comunidad. 
URL:https://prosperacoops.org/event/lanzamiento-de-su-cooperativa-acuerdos-operativos-y-registro-de-su-llc-2/
LOCATION:ON-LINE\, United States
CATEGORIES:Prospera
ATTACH;FMTTYPE=image/png:https://prosperacoops.org/wp-content/uploads/2024/03/Eventos-Crece-Banners-7.png
ORGANIZER;CN="Prospera":MAILTO:info@prosperacoops.org
END:VEVENT
END:VCALENDAR