BEGIN:VCALENDAR
VERSION:2.0
PRODID:-//Prospera - ECPv6.15.17.1//NONSGML v1.0//EN
CALSCALE:GREGORIAN
METHOD:PUBLISH
X-ORIGINAL-URL:https://prosperacoops.org
X-WR-CALDESC:Events for Prospera
REFRESH-INTERVAL;VALUE=DURATION:PT1H
X-Robots-Tag:noindex
X-PUBLISHED-TTL:PT1H
BEGIN:VTIMEZONE
TZID:UTC
BEGIN:STANDARD
TZOFFSETFROM:+0000
TZOFFSETTO:+0000
TZNAME:UTC
DTSTART:20230101T000000
END:STANDARD
END:VTIMEZONE
BEGIN:VEVENT
DTSTART;TZID=UTC:20240425T170000
DTEND;TZID=UTC:20240425T200000
DTSTAMP:20260424T160942
CREATED:20240208T202222Z
LAST-MODIFIED:20240528T195526Z
UID:10659-1714064400-1714075200@prosperacoops.org
SUMMARY:Curso: Planea tu negocio
DESCRIPTION:Descripción del curso:  \nEn Prospera reconocemos la necesidad de crear economías nuevas\, solidarias y humanas. Al mismo tiempo que a través de la cooperación y la colectividad plantamos semillas de una economía alternativa\, también promovemos el aprendizaje de herramientas tradicionales como lo es el plan de negocios. Esta es la base del lanzamiento y crecimiento de tu negocio\, sea este cooperativo o convencional.  \nEl curso Planea tu negocio te guía por cada etapa de planificación en tu negocio\,  te ayudará como ese mapa para estructurar\, operar y hacer crecer tu negocio. Crearás tu plan de negocio\, un documento casi esencial ya que te ayudará a presentar tu negocio a inversores y aceleradoras. En él estableces metas y expectativas a corto\, mediano y largo plazo\, así como las estrategias a seguir para llegar a ellas. \nEn este curso aprenderemos: \n\nLa mentalidad del emprendedor\nVisión\, misión y valores de tu negocio\nAnálisis de mercado: industria\, clientes y competencia\nDefinición de productos y servicios\, propuesta de valor\, estrategia de venta y precio\nOperaciones y actividades claves\, plan de producción\nEntendimiento financiero\, plan de metas financieras\, punto de equilibrio\, y opciones de acceso a capital\nFinanzas empresariales: ganancias y pérdidas\, proyecciones\, y opciones de acceso a capital\nFormalizando tu negocio y detalles de plan de negocios\n\nGraduate de este curso\, aprende y desaprende sobre tu negocio\, ¡No te lo pierdas! \n¿Qué esperar de esta clase de plan de negocios? \n\nEsta clase consta de 10 sesiones donde proveeremos diversas herramientas y usamos tecnología como google Docs y hojas de cálculo\, entre otros\,  para ayudar a llegar a ese plan de negocio que deseas.\nEs un curso de 30 horas\, que además de dar herramientas\, te guía por el camino de entender tu negocio y a ti como dueña de este. Las clases son interactivas\, divertidas y participativas. \nComo apoyo a la creación de tu plan de negocio ofrecemos asesorías grupales cada semana\, estas son opcionales y tienen como objetivo darte ese apoyo extra para completar tus tareas o aclarar las dudas que van apareciendo durante las sesiones.\nAdemás de crear tu plan de negocios recibirás un certificado de completación del curso y tendrás la oportunidad de festejar con el equipo y tus compañeras en la fiesta de graduación de programas de prospera (Junio 27 – 05:00 PM – 08:00 PM en  Oakland CA )\n\nFechas de la clase y ubicación:  \n\nAbril 25 – 05:00 PM – 08:00 PM – Zoom \nMayo 2- 05:00 PM – 08:00 PM – Zoom \nMayo 9 – 05:00 PM – 08:00 PM – Zoom \nMayo 16- 05:00 PM – 08:00 PM – Zoom \nMayo 23- 05:00 PM – 08:00 PM – Zoom \nMayo 30- 05:00 PM – 08:00 PM – Zoom \nJunio 6- 05:00 PM – 08:00 PM – Zoom \nJunio 13- 05:00 PM – 08:00 PM – Zoom \nJunio 20- 05:00 PM – 08:00 PM – Zoom \nJunio 27 – 05:00 PM – 08:00 PM – Graduación Presencial en Oakland CA (Dirección exacta por confirmar)\n\n  \nRequisitos para participar: \n\nAtender a todas las sesiones\, para poder recibir tu certificado de completación del curso\, se tiene que  asistir el 80% de las sesiones del curso\nLlenar la evaluación cada sesión\nVenir preparada para participar durante la clase y actividades (Este es un curso participativo)\nPuntualidad – Se iniciarán las clases a las 5:00 pm PST\nPreparar cualquier tarea antes de la clase\nTomar responsabilidad de agendar tu tiempo para la clase o asesoría grupal\nCompartir tus avances de tu plan de negocio con Prospera (los planes de negocios se mantendrán confidenciales/ no se compartirán con ninguna persona fuera de Prospera. El compartirlo con Prospera es para ayudarnos a monitorear y comunicar el impacto del programa)\nGraduarse del curso\n\nEste curso es de cupo limitado. ¡Gracias por llenar este formulario de inscripción con anticipación! \nInformación adicional:  \n\nEl curso se ofrece en español y es GRATIS con un valor estimado de $1\,500\nLa sesión 10 es en persona\, En oakland CA (Dirección exacta por confirmar)\nContacto para apoyo en registracion:  Elisa Santillan – elisa@prosperacoops.org\n\nPresentadora: PROSPERA:  \n\nAna Castaño (Coordinadora de desarrollo empresarial) \nTania Figueroa  (Coordinadora de desarrollo empresarial) \nElisa Santillan  (Coordinadora de desarrollo empresarial)
URL:https://prosperacoops.org/event/curso-planea-tu-negocio/
LOCATION:ON-LINE\, United States
CATEGORIES:Prospera
ATTACH;FMTTYPE=image/png:https://prosperacoops.org/wp-content/uploads/2024/02/1.png
ORGANIZER;CN="Prospera":MAILTO:info@prosperacoops.org
END:VEVENT
END:VCALENDAR