BEGIN:VCALENDAR
VERSION:2.0
PRODID:-//Prospera - ECPv6.15.17.1//NONSGML v1.0//EN
CALSCALE:GREGORIAN
METHOD:PUBLISH
X-ORIGINAL-URL:https://prosperacoops.org
X-WR-CALDESC:Events for Prospera
REFRESH-INTERVAL;VALUE=DURATION:PT1H
X-Robots-Tag:noindex
X-PUBLISHED-TTL:PT1H
BEGIN:VTIMEZONE
TZID:UTC
BEGIN:STANDARD
TZOFFSETFROM:+0000
TZOFFSETTO:+0000
TZNAME:UTC
DTSTART:20230101T000000
END:STANDARD
END:VTIMEZONE
BEGIN:VEVENT
DTSTART;TZID=UTC:20240904T180000
DTEND;TZID=UTC:20240904T200000
DTSTAMP:20260424T010456
CREATED:20240821T223229Z
LAST-MODIFIED:20240821T223229Z
UID:11024-1725472800-1725480000@prosperacoops.org
SUMMARY:Tips para buscar un Préstamo
DESCRIPTION:Descripción del taller:    \nEn este taller las personas participantes aprenderán información clave para solicitar un préstamo para su negocio. Identificando los documentos y proyecciones necesarias para presentar la solicitud. \nPresentadora: Ginelle Curincita \nBio: Ginelle es nativa del Área de la Bahía y de herencia Mexicana. Sus experiencias combinadas de trabajo en educación\, diversidad\, y desarrollo de pequeñas empresas la llevaron a lanzar su propia empresa OroMar Consulta\, durante la pandemia. Ginelle trabajó más recientemente para Renaissance Entrepreneurship Center\, donde supervisó fondos de ayuda para subvenciones y préstamos para mujeres y minorías.  Actualmente vive en Colorado Springs con sus hijas y su esposo.
URL:https://prosperacoops.org/event/tips-para-buscar-un-prestamo/
LOCATION:ON-LINE\, United States
CATEGORIES:Prospera
ATTACH;FMTTYPE=image/png:https://prosperacoops.org/wp-content/uploads/2024/08/1-3.png
ORGANIZER;CN="Prospera":MAILTO:info@prosperacoops.org
END:VEVENT
BEGIN:VEVENT
DTSTART;TZID=UTC:20240917T140000
DTEND;TZID=UTC:20240917T160000
DTSTAMP:20260424T010456
CREATED:20240911T175646Z
LAST-MODIFIED:20240911T175646Z
UID:11077-1726581600-1726588800@prosperacoops.org
SUMMARY:Taller virtual: Introducción a la Contabilidad y Estados Financieros
DESCRIPTION:Cuando? Sep 17\, 2024 02:00 PM \n¿Quieres aprender los fundamentos de la contabilidad y los estados financieros? Este taller\, presentado en español\, está diseñado específicamente para emprendedores que desean gestionar mejor sus finanzas. Organizado por Citi\, esta sesión gratuita cubrirá prácticas esenciales de contabilidad y te ayudará a comprender los estados financieros\, brindándote las herramientas necesarias para hacer crecer tu negocio de manera sostenible. Ya sea que estés comenzando o busques mejorar tus habilidades financieras\, este taller es perfecto para ti. ¡Únete a nosotros y da un paso hacia la claridad y el éxito financiero! Gracias a Prospera y al Centro de Desarrollo de Pequeñas Empresas de la Universidad de Columbia por colaborar en este taller. \nDate & Time: Sep 17\, 2024 02:00 PM \nIntro to Bookkeeping and Financial Statements (Spanish) (Citi) Looking to get a solid grasp on bookkeeping and financial statements? This workshop\, presented in Spanish\, is designed specifically for entrepreneurs who want to better manage their finances. Hosted by Citi\, this free session will cover essential bookkeeping practices and help you understand financial statements\, ensuring you have the tools needed to grow your business sustainably. Whether you’re just starting or looking to refine your financial skills\, this workshop is perfect for you. Join us and take a step closer to financial clarity and success! Thank you to Prospera and the Columbia University Small Business Development Center partnering on this workshop. \nRegistrate aquí!
URL:https://prosperacoops.org/event/taller-virtual-introduccion-a-la-contabilidad-y-estados-financieros/
LOCATION:ON-LINE\, United States
CATEGORIES:Prospera
ATTACH;FMTTYPE=image/png:https://prosperacoops.org/wp-content/uploads/2024/09/Eventos-Crece-Banners-15.png
END:VEVENT
BEGIN:VEVENT
DTSTART;TZID=UTC:20240926T170000
DTEND;TZID=UTC:20241212T200000
DTSTAMP:20260424T010456
CREATED:20240731T233016Z
LAST-MODIFIED:20240731T233016Z
UID:11000-1727370000-1734033600@prosperacoops.org
SUMMARY:Curso: Planea tu negocio Otoño 2024
DESCRIPTION:Dia: Jueves \nFecha:  9/26/24 a 12/12/24  (9 Sesiones online 1 graduación en persona Oakland CA) \nHorario: 5:00 PM a 8:00 PM \n¿Por donde? Zoom 9 Sesiones (graduación en persona Oakland CA) \nDescripción del curso:  \nEn Prospera reconocemos la necesidad de crear economías nuevas\, solidarias y humanas. Al mismo tiempo que a través de la cooperación y la colectividad plantamos semillas de una economía alternativa\, también promovemos el aprendizaje de herramientas tradicionales como lo es el plan de negocios. Esta es la base del lanzamiento y crecimiento de tu negocio\, sea este cooperativo o convencional.  \nEl curso Planea tu negocio te guía por cada etapa de planificación en tu negocio\,  te ayudará como ese mapa para estructurar\, operar y hacer crecer tu negocio. Crearás tu plan de negocio\, un documento casi esencial ya que te ayudará a presentar tu negocio a inversores y aceleradoras. En él estableces metas y expectativas a corto\, mediano y largo plazo\, así como las estrategias a seguir para llegar a ellas. \nEn este curso aprenderemos: \n\nLa mentalidad del emprendedor\nVisión\, misión y valores de tu negocio\nAnálisis de mercado: industria\, clientes y competencia\nDefinición de productos y servicios\, propuesta de valor\, estrategia de venta y precio\nOperaciones y actividades claves\, plan de producción\nEntendimiento financiero\, plan de metas financieras\, punto de equilibrio\, y opciones de acceso a capital\nFinanzas empresariales: ganancias y pérdidas\, proyecciones\, y opciones de acceso a capital\nFormalizando tu negocio y detalles de plan de negocios\n\nGraduate de este curso\, aprende y desaprende sobre tu negocio\, ¡No te lo pierdas! \n¿Qué esperar de esta clase de plan de negocios? \n\nEsta clase consta de 10 sesiones (9 online\, 1 graduación en persona en Oakland CA) donde proveeremos diversas herramientas y usamos tecnología como google Docs y hojas de cálculo\, entre otros\,  para ayudar a llegar a ese plan de negocio que deseas. \nEs un curso de 30 horas\, que además de dar herramientas\, te guía por el camino de entender tu negocio y a ti como dueña de este. Las clases son interactivas\, divertidas y participativas. \nComo apoyo a la creación de tu plan de negocio ofrecemos asesorías grupales cada semana\, estas son opcionales y tienen como objetivo darte ese apoyo extra para completar tus tareas o aclarar las dudas que van apareciendo durante las sesiones.\nComo apoyo para la terminación y entrega de tu plan de negocio (uno de los requisitos de este curso) te apoyamos con horas de Asistencia técnica 1:1 al finalizar el curso.\nAdemás de crear tu plan de negocios recibirás un certificado de completación del curso y tendrás la oportunidad de festejar con el equipo y tus compañeras en la fiesta de graduación de programas de prospera (12 de Diciembre/2024 – 05:00 PM – 08:00 PM en Oakland CA )\n\nFechas de la clase y ubicación:  \n\nSep 26 – 05:00 PM – 08:00 PM – Zoom \nOct 03 – 05:00 PM – 08:00 PM – Zoom \nOct 10 – 05:00 PM – 08:00 PM – Zoom \nOct 17 – 05:00 PM – 08:00 PM – Zoom \nOct 24 – 05:00 PM – 08:00 PM – Zoom \nNov 07- 05:00 PM – 08:00 PM – Zoom \nNov 14 – 05:00 PM – 08:00 PM – Zoom \nNov 21 – 05:00 PM – 08:00 PM – Zoom \nDic 05 – 05:00 PM – 08:00 PM – Zoom \nDic 12 – 05:00 PM – 08:00 PM – Graduación Presencial en Oakland CA (Dirección exacta por confirmar)\n\nRequisitos para participar: \n\nAtender a todas las sesiones (para poder recibir tu certificado de completación del curso\, se tiene que asistir mínimo al 80% de las sesiones del curso)\nLlenar la evaluación cada sesión\nVenir preparada para participar durante la clase y actividades (Este es un curso participativo)\nPuntualidad – Se iniciarán las clases a las 5:00 pm PST\nPreparar cualquier tarea antes de la clase\nTomar responsabilidad de agendar tu tiempo para la sesión o asesoría grupal\nCompartir tus avances y al término del curso entregar tu plan de negocios de tu plan de negocio con Prospera (los planes de negocios se mantendrán confidenciales/ no se compartirán con ninguna persona fuera de Prospera. El compartirlo con Prospera es para ayudarnos a monitorear y comunicar el impacto del programa)\nGraduarse del curso\n\nEste curso es de cupo limitado. ¡Gracias por llenar este formulario de inscripción con anticipación! \nInformación adicional:  \n\nEl curso se ofrece en español y es GRATIS con un valor estimado de $1\,500\nLa sesión 10 es en persona\, En Oakland\, CA (Dirección exacta por confirmar)\nContacto para apoyo en registracion:  Elisa Santillan – elisa@prosperacoops.org\n\nPresentadora: PROSPERA:  \n\nAna Castaño (Coordinadora de éxito empresarial) Presentadora Lider\nAnahi Rojas (Program success Manager) Presentadora de apoyo\nElisa Santillan (Coordinadora de éxito empresarial) Asistencia Tecnica
URL:https://prosperacoops.org/event/curso-planea-tu-negocio-otono-2024/
CATEGORIES:Prospera
ATTACH;FMTTYPE=image/png:https://prosperacoops.org/wp-content/uploads/2024/07/1-1.png
ORGANIZER;CN="Prospera":MAILTO:info@prosperacoops.org
END:VEVENT
BEGIN:VEVENT
DTSTART;TZID=UTC:20240930T170000
DTEND;TZID=UTC:20240930T190000
DTSTAMP:20260424T010456
CREATED:20240923T224839Z
LAST-MODIFIED:20240923T224839Z
UID:11081-1727715600-1727722800@prosperacoops.org
SUMMARY:Taller de Proyecciones Financieras
DESCRIPTION:¿Quieres aprender a proyectar el futuro financiero de tu negocio? Este taller gratuito está diseñado para emprendedores que buscan mejorar sus habilidades en la planificación financiera. Exploraremos cómo crear proyecciones realistas y detalladas para guiar las decisiones estratégicas de tu empresa. No importa si estás en las primeras etapas de tu negocio o si ya estás creciendo\, este taller te proporcionará las herramientas clave para anticipar y planificar tu éxito financiero. ¡No te lo pierdas! Gracias a Prospera y al Centro de Desarrollo de Pequeñas Empresas de la Universidad de Columbia por colaborar en este taller. \nRegistrate aquí
URL:https://prosperacoops.org/event/taller-de-proyecciones-financieras/
LOCATION:ON-LINE\, United States
CATEGORIES:Prospera
ATTACH;FMTTYPE=image/png:https://prosperacoops.org/wp-content/uploads/2024/09/2-3.png
END:VEVENT
END:VCALENDAR