BEGIN:VCALENDAR
VERSION:2.0
PRODID:-//Prospera - ECPv6.15.17.1//NONSGML v1.0//EN
CALSCALE:GREGORIAN
METHOD:PUBLISH
X-WR-CALNAME:Prospera
X-ORIGINAL-URL:https://prosperacoops.org
X-WR-CALDESC:Events for Prospera
REFRESH-INTERVAL;VALUE=DURATION:PT1H
X-Robots-Tag:noindex
X-PUBLISHED-TTL:PT1H
BEGIN:VTIMEZONE
TZID:UTC
BEGIN:STANDARD
TZOFFSETFROM:+0000
TZOFFSETTO:+0000
TZNAME:UTC
DTSTART:20230101T000000
END:STANDARD
END:VTIMEZONE
BEGIN:VEVENT
DTSTART;TZID=UTC:20240926T170000
DTEND;TZID=UTC:20241212T200000
DTSTAMP:20260423T232444
CREATED:20240731T233016Z
LAST-MODIFIED:20240731T233016Z
UID:11000-1727370000-1734033600@prosperacoops.org
SUMMARY:Curso: Planea tu negocio Otoño 2024
DESCRIPTION:Dia: Jueves \nFecha:  9/26/24 a 12/12/24  (9 Sesiones online 1 graduación en persona Oakland CA) \nHorario: 5:00 PM a 8:00 PM \n¿Por donde? Zoom 9 Sesiones (graduación en persona Oakland CA) \nDescripción del curso:  \nEn Prospera reconocemos la necesidad de crear economías nuevas\, solidarias y humanas. Al mismo tiempo que a través de la cooperación y la colectividad plantamos semillas de una economía alternativa\, también promovemos el aprendizaje de herramientas tradicionales como lo es el plan de negocios. Esta es la base del lanzamiento y crecimiento de tu negocio\, sea este cooperativo o convencional.  \nEl curso Planea tu negocio te guía por cada etapa de planificación en tu negocio\,  te ayudará como ese mapa para estructurar\, operar y hacer crecer tu negocio. Crearás tu plan de negocio\, un documento casi esencial ya que te ayudará a presentar tu negocio a inversores y aceleradoras. En él estableces metas y expectativas a corto\, mediano y largo plazo\, así como las estrategias a seguir para llegar a ellas. \nEn este curso aprenderemos: \n\nLa mentalidad del emprendedor\nVisión\, misión y valores de tu negocio\nAnálisis de mercado: industria\, clientes y competencia\nDefinición de productos y servicios\, propuesta de valor\, estrategia de venta y precio\nOperaciones y actividades claves\, plan de producción\nEntendimiento financiero\, plan de metas financieras\, punto de equilibrio\, y opciones de acceso a capital\nFinanzas empresariales: ganancias y pérdidas\, proyecciones\, y opciones de acceso a capital\nFormalizando tu negocio y detalles de plan de negocios\n\nGraduate de este curso\, aprende y desaprende sobre tu negocio\, ¡No te lo pierdas! \n¿Qué esperar de esta clase de plan de negocios? \n\nEsta clase consta de 10 sesiones (9 online\, 1 graduación en persona en Oakland CA) donde proveeremos diversas herramientas y usamos tecnología como google Docs y hojas de cálculo\, entre otros\,  para ayudar a llegar a ese plan de negocio que deseas. \nEs un curso de 30 horas\, que además de dar herramientas\, te guía por el camino de entender tu negocio y a ti como dueña de este. Las clases son interactivas\, divertidas y participativas. \nComo apoyo a la creación de tu plan de negocio ofrecemos asesorías grupales cada semana\, estas son opcionales y tienen como objetivo darte ese apoyo extra para completar tus tareas o aclarar las dudas que van apareciendo durante las sesiones.\nComo apoyo para la terminación y entrega de tu plan de negocio (uno de los requisitos de este curso) te apoyamos con horas de Asistencia técnica 1:1 al finalizar el curso.\nAdemás de crear tu plan de negocios recibirás un certificado de completación del curso y tendrás la oportunidad de festejar con el equipo y tus compañeras en la fiesta de graduación de programas de prospera (12 de Diciembre/2024 – 05:00 PM – 08:00 PM en Oakland CA )\n\nFechas de la clase y ubicación:  \n\nSep 26 – 05:00 PM – 08:00 PM – Zoom \nOct 03 – 05:00 PM – 08:00 PM – Zoom \nOct 10 – 05:00 PM – 08:00 PM – Zoom \nOct 17 – 05:00 PM – 08:00 PM – Zoom \nOct 24 – 05:00 PM – 08:00 PM – Zoom \nNov 07- 05:00 PM – 08:00 PM – Zoom \nNov 14 – 05:00 PM – 08:00 PM – Zoom \nNov 21 – 05:00 PM – 08:00 PM – Zoom \nDic 05 – 05:00 PM – 08:00 PM – Zoom \nDic 12 – 05:00 PM – 08:00 PM – Graduación Presencial en Oakland CA (Dirección exacta por confirmar)\n\nRequisitos para participar: \n\nAtender a todas las sesiones (para poder recibir tu certificado de completación del curso\, se tiene que asistir mínimo al 80% de las sesiones del curso)\nLlenar la evaluación cada sesión\nVenir preparada para participar durante la clase y actividades (Este es un curso participativo)\nPuntualidad – Se iniciarán las clases a las 5:00 pm PST\nPreparar cualquier tarea antes de la clase\nTomar responsabilidad de agendar tu tiempo para la sesión o asesoría grupal\nCompartir tus avances y al término del curso entregar tu plan de negocios de tu plan de negocio con Prospera (los planes de negocios se mantendrán confidenciales/ no se compartirán con ninguna persona fuera de Prospera. El compartirlo con Prospera es para ayudarnos a monitorear y comunicar el impacto del programa)\nGraduarse del curso\n\nEste curso es de cupo limitado. ¡Gracias por llenar este formulario de inscripción con anticipación! \nInformación adicional:  \n\nEl curso se ofrece en español y es GRATIS con un valor estimado de $1\,500\nLa sesión 10 es en persona\, En Oakland\, CA (Dirección exacta por confirmar)\nContacto para apoyo en registracion:  Elisa Santillan – elisa@prosperacoops.org\n\nPresentadora: PROSPERA:  \n\nAna Castaño (Coordinadora de éxito empresarial) Presentadora Lider\nAnahi Rojas (Program success Manager) Presentadora de apoyo\nElisa Santillan (Coordinadora de éxito empresarial) Asistencia Tecnica
URL:https://prosperacoops.org/event/curso-planea-tu-negocio-otono-2024/
CATEGORIES:Prospera
ATTACH;FMTTYPE=image/png:https://prosperacoops.org/wp-content/uploads/2024/07/1-1.png
ORGANIZER;CN="Prospera":MAILTO:info@prosperacoops.org
END:VEVENT
BEGIN:VEVENT
DTSTART;TZID=UTC:20241002T180000
DTEND;TZID=UTC:20241002T200000
DTSTAMP:20260423T232444
CREATED:20240905T212324Z
LAST-MODIFIED:20240905T212324Z
UID:11066-1727892000-1727899200@prosperacoops.org
SUMMARY:Taller Virtual: Diseña tu Pitch de Ventas
DESCRIPTION:Descripción del taller:   \n¿Deseas comunicar tu propuesta única de valor de manera tan impactante que tus clientes\, aliados o patrocinadores no puedan resistirse? \n¡Aprende las claves en este taller! \nSumérgete en el arte de persuadir y mejorar tus objetivos de ventas a través de un pitch claro y convincente. Este taller está dirigido a emprendedorxs\, dueñxs de negocios y a cualquier persona que desee aprender a comunicar el valor de su producto\, servicio o idea de una manera más efectiva para capturar la atención de clientes\, aliados o patrocinadores. \nPresentador: Anahi Rojas \nBio: Anahí estudiaba derecho en México cuando decidió emigrar a Estados Unidos\, donde se convirtió en trabajadora-propietaria de varias cooperativas de limpieza de casas ecológicas. Durante este tiempo\, buscó oportunidades para crear su propio negocio. En 2017\, inició Professional Eco Cleaning\, un negocio de limpieza de casas y oficinas respetuoso con el medio ambiente y con valores cooperativos. A principios de 2020\, Anahí comenzó a ofrecer talleres de negocios en el Área de la Bahía para emprendedoras latinas. Esto la llevó a cofundar BRINDEMOS\, una cooperativa de consultoría para dueños de negocios hispanohablantes en los EE. UU. Anahí ha sido parte de la comunidad de Prospera durante más de una década y\, durante los últimos cinco años\, ha participado en varios programas de becas. Ahora ha hecho la transición a un nuevo rol como Directora de Programas en Prospera. Lleva sus valores feministas a su vida profesional y personal y es la orgullosa madre de Alexa y Emmanuel\, sus dos hijos que son la fuerza impulsora de su desarrollo. \n \n 
URL:https://prosperacoops.org/event/taller-virtual-disena-tu-pitch-de-ventas/
LOCATION:ON-LINE\, United States
CATEGORIES:Prospera
ATTACH;FMTTYPE=image/png:https://prosperacoops.org/wp-content/uploads/2024/09/3.png
ORGANIZER;CN="Prospera":MAILTO:info@prosperacoops.org
END:VEVENT
BEGIN:VEVENT
DTSTART;VALUE=DATE:20241005
DTEND;VALUE=DATE:20241013
DTSTAMP:20260423T232444
CREATED:20240814T001619Z
LAST-MODIFIED:20240901T001148Z
UID:11017-1728086400-1728777599@prosperacoops.org
SUMMARY:Bootcamp intensivo “Explora Economías Alternativas”
DESCRIPTION:Descripción del curso:  \nEn Prospera reconocemos la necesidad de crear economías nuevas\, solidarias y más sustentables. Por esa razón\, a través de la cooperación y la colectividad plantamos semillas para crear Explora Economías Alternativas\, un bootcamp que está intencionado principalmente para emprendedoras latinas inmigrantes que hablan español\, sin embargo\, le damos la bienvenida a todas las personas en las diferentes identidades de género que buscan iniciar su negocio.  \nEste bootcamp es un espacio de construcción y desaprendizaje de 7 horas cada sesión intensiva de dos sábados.   \nExploraremos cómo funciona el sistema en el que nos encontramos y las ventajas de observar valores y principios cooperativos para lanzar su propio negocio o bien\, unirse a un negocio ya en marcha.  Evaluaremos nuestras opciones para llevar nuestro espíritu emprendedor al siguiente paso.. \nEn este curso aprenderemos sobre: \n\nActitud y disciplina empresariales\nPoder y privilegio\nComunicación efectiva\, escucha activa \nResolución de conflictos\nCooperativismo \nGobernanza\nSistema financiero\n\n¿Qué esperar de este curso intensivo de Explora Economías Alternativas? \n\nFomentar la comprensión de economías alternativas\, el cooperativismo y la colaboración.\nDesarrollar habilidades de comunicación efectiva\, promover la escucha activa y herramientas prácticas para identificar\, abordar y resolver conflictos de manera constructiva dentro de entornos cooperativos.\nConocer los principios de gobernanza que promueven la participación democrática y la toma de decisiones colectivas.\nObtendrán algunas herramientas básicas para trazar el camino\, identificar sus fortalezas y unirlas a otras para acercarse o ampliar ese horizonte visionario\n\nFechas de la clase y ubicación:  \n\nOct 05 – 10:00 AM – 5:00 PM – Zoom \nOct 12 – 10:00 AM – 5:00 PM – Zoom \nDic 12 – 05:00 PM – 08:00 PM – Graduación Presencial en Oakland CA (Dirección exacta por confirmar)\n\nRequisitos para participar: \n\nAtender ambas sesiones para poder recibir tu certificado de completamiento del curso\, se tiene que asistir al 100% de las sesiones del curso online\nLlenar una evaluación después de cada sesión\nVenir preparada para participar activamente durante la clase en las actividades y los grupos pequeños \nPuntualidad – Se iniciarán las clases en punto de las 10:00 am PST\nLa Graduación será presencial en la ciudad de Oakland\, CA. No es obligatorio asistir\, pero te invitamos a considerar que nos acompañes. \nComo el curso es en línea\, haz lo que esté a tu alcance para estar enfocada al 100% sin distracciones del hogar. \n\nEste curso es de cupo limitado. ¡Gracias por llenar el formulario de inscripción con anticipación para reservar tu espacio! \nInformación adicional:  \n\nEl curso se ofrece totalmente en español y es GRATUITO con un valor estimado de $1\,500.00 USD.\nLa graduación se celebrará el 12 de diciembre de 5-8pm en Oakland CA (dirección exacta aún pendiente de confirmar)\nContacto de apoyo sobre cualquier tema o registración:  Celia Alvarez celia@prosperacoops.org\n\nPresentadoras: PROSPERA \n\nCelia Alvarez (Coordinadora de éxito empresarial) Presentadora Lider\nClaudia Arroyo (Directora ejecutiva) Presentadora \nAngelica Flores (Participante de FPL) Asistente técnico 10/5/24 \nDayanna Montano  (Participante de FPL) Asistente técnico 10/12/24 \n\nLlena tu formulario de interés aquí!
URL:https://prosperacoops.org/event/bootcamp-intensivo-explora-economias-alternativas/
LOCATION:ON-LINE\, United States
CATEGORIES:Prospera
ATTACH;FMTTYPE=image/png:https://prosperacoops.org/wp-content/uploads/2024/09/1.png
ORGANIZER;CN="Prospera":MAILTO:info@prosperacoops.org
END:VEVENT
BEGIN:VEVENT
DTSTART;TZID=UTC:20241009T180000
DTEND;TZID=UTC:20241009T200000
DTSTAMP:20260423T232444
CREATED:20240905T212600Z
LAST-MODIFIED:20240905T212600Z
UID:11072-1728496800-1728504000@prosperacoops.org
SUMMARY:Taller Virtual: WhatsApp Business desde Cero: Guía práctica para nuevos usuarios
DESCRIPTION:Descripción del taller:   \nWhatsApp es una aplicación líder de mensajería del mundo\, utilizada en 187 países y por 1\,500 millones de personas. Por lo tanto\, aprovechar esta herramienta es clave para muchos negocios. En este taller\, compartiremos a través de ejemplos cómo diferentes negocios usan WhatsApp para poder realizar sus negocios y compartiremos 5 pasos importantes que puedes implementar en tu WhatsApp Business como el de crear un perfil comercial\, utilizar respuestas rápidas y funciones de etiquetas para responder y administrar rápidamente a tus clientes.  \nPresentador: Gabriela Zamudio \nBio: Mi nombre es Gabriela Tom-Zamudio y quizá al igual que tu soy emprendedora. También soy programadora\, educadora y mamá. Creo firmemente que la tecnología es creada por y para la diversidad de nuestra población y continuamente trabajó en iniciativas que ayuden a ello. Mi misión es la de apoyar\, educar e inspirar a ser la mejor versión de nosotros mismos sin importar de dónde venimos. \nInicié mi carrera en tech en 2013 cuando trabajé como Software Engineer y consultant en Thoughtworks y puse mi espíritu de emprendimiento en práctica a través de iniciativas como \nEku donde me enfoqué a ayudar Latinas a aprender a programar\, Anpi donde trabajé con artesanos Peruanos y fue ex co-fundadora de FounderGym. Actualmente trabajo building Digital Jump donde nos esforzamos a ayudar LatinX emprendedoras quienes buscan superar los obstáculos de la tecnología y digitalizarse.
URL:https://prosperacoops.org/event/taller-virtual-whatsapp-business-desde-cero-guia-practica-para-nuevos-usuarios/
LOCATION:ON-LINE\, United States
CATEGORIES:Prospera
ATTACH;FMTTYPE=image/png:https://prosperacoops.org/wp-content/uploads/2024/09/1-2.png
ORGANIZER;CN="Prospera":MAILTO:info@prosperacoops.org
END:VEVENT
BEGIN:VEVENT
DTSTART;TZID=UTC:20241019T084500
DTEND;TZID=UTC:20241019T150000
DTSTAMP:20260423T232444
CREATED:20240729T145700Z
LAST-MODIFIED:20241009T234817Z
UID:10959-1729327500-1729350000@prosperacoops.org
SUMMARY:Cumbre Anual para Latinas Emprendedoras 2024: Bibliotecas Humanas: Puentes de historias\, aprendizaje y conexión.
DESCRIPTION:Te queremos invitar a nuestro evento anual\, nuestra querida y esperada Cumbre para Latinas Emprendedoras\, con el tema “Bibliotecas humanas: puentes de historias\, aprendizaje y conexión”.   \nEl concepto de “Bibliotecas Humanas” se originó en Copenhague en 2000. Su propósito es desafiar los prejuicios\, estereotipos y al mismo tiempo promover el diálogo\, la tolerancia y la comprensión entre personas de diversos orígenes a través de nuestras historias:  \nLa Cumbre ofrece un espacio seguro para el desaprendizaje\, la inspiración y para celebrar. A través de paneles\, actividades y sesiones de conexión\, las participantes obtendrán valiosas herramientas\, recursos y conexiones para apoyar su desarrollo personal y profesional. Además\, tendremos mercadito con productos y servicios de las participantes de nuestros programas\, y mesas de información de otras organizaciones comunitarias\, y ¡muchas sorpresas más! \nSi no has asistido a ninguno de nuestros eventos no te lo puedes perder. Ven a emocionarte\, a reír\, a compartir y sobre todo a inspirarte de historias e inspirar a otras mujeres poderosas como tú. ¡Te esperamos! \n\nSábado\, 19 de octubre de 2024 \n8.45 am a 3 pm \nOakland City Hall\, 1 Frank H. Ogawa Plaza\, Oakland\, CA\, 94612. (La entrada al City Hall de Oakland será por la 14th Street a unos pasos de la Broadway) \n\nAgenda Completa  \n\n8:45 – 9:30 am. Registro\, desayuno y visita a Mercadito emprendedoras Prospera y organizaciones comunitarias. \n9.30 am – 9.50 am. Bienvenida por parte de Danza Azteca\n10:00 am – 10.15 am\n\n\n\nBienvenida por parte de Claudia Arroyo\, Directora General de Prospera\nBienvenida por parte de la Alcaldesa de Oakland\, Sheng Thao\n\n\n\n\n\n10:15 am – 12:15pm. Actividad Principal “Bibliotecas Humanas: Puentes de historias\, aprendizaje y conexión”. Con esta actividad abriremos las páginas de nuestras vidas! Celebraremos el poder de nuestras historias\, compartiremos experiencias transformadoras y escribiremos con valentía nuevos capítulos juntas. \n12.15 – 12.30 pm. Foto de Grupo para el recuerdo \n12.30 – 1.30 pm. Descanso\, comida y visita a Mercadito emprendedoras Prospera y organizaciones comunitarias. \n1.30 pm – 2.40 pm. Panel “Mujeres que Inspiran”. Facilitado por Claudia Arroyo\, Directora Ejecutiva de Prospera con las panelistas: \n\n\n\nAngelina Marcos\, oaxaqueña\, zapoteca y cofundadora de Oaxaca To Go  será una de las panelistas en nuestra Cumbre. Conócela y déjate inspirar por su viaje como migrante\, por su lucha contra la adversidad y las barreras del idioma; así como por su esfuerzo para prepararse\, conectar con su cultura y crear un emprendimiento auténtico y justo. ¡Será un capítulo que no te puedes perder!\nCarmen Flores\, mexicana originaria de Puebla y fundadora de La Patroncita Raspados y Botanas será una de las panelistas  en nuestra Cumbre. Déjate inspirar por su historia y conoce cómo fue para ella criarse en una gran ciudad como Brooklyn\, su complicado paso por la Universidad como primera generación\, su pasión por fomentar la independencia financiera en las mujeres y el sueño de seguir el legado de su madre.\n\n\n\n\n2.40 pm – 3 pm. Cierre y sorpresas\n\nSi tienes alguna pregunta no dudes en contactar nos a: info@prosperacoops.org  \nEquipo Prospera \n   \nGRACIAS A NUESTROS PATROCINADORES 
URL:https://prosperacoops.org/event/cumbre-anual-para-latinas-emprendedoras-2024-bibliotecas-humanas-puentes-de-historias-aprendizaje-y-conexion/
LOCATION:city hall of oakland\, 1 Frank H. Ogawa Plaza\, Okland\, CA\, 94612\, United States
CATEGORIES:Prospera
ATTACH;FMTTYPE=image/png:https://prosperacoops.org/wp-content/uploads/2024/07/Save-the-Date-Cumbre-Emprendedoras-2024.png
ORGANIZER;CN="Prospera":MAILTO:info@prosperacoops.org
END:VEVENT
BEGIN:VEVENT
DTSTART;TZID=UTC:20241030T180000
DTEND;TZID=UTC:20241030T200000
DTSTAMP:20260423T232444
CREATED:20241009T212359Z
LAST-MODIFIED:20241009T212400Z
UID:11103-1730311200-1730318400@prosperacoops.org
SUMMARY:De la Inteligencia Artificial al Corazón del Cliente
DESCRIPTION:Descripción del taller:  \nEn este taller cubriremos elementos totalmente prácticos para utilizar herramientas gratuitas de Inteligencia Artificial aplicada a tus esfuerzos de ventas y de mercadotecnia. \nAprenderemos cómo acelerar tu investigación de mercado e investigar y corroborar datos y tendencias de tu mercado\, así como obtener insights para crear asuntos para tus correos\, ideas para tus newsletters\, guías para tus eventos de networking y contenido en redes sociales. \nTambién cubriremos actividades en las que la IA puede cometer errores importantes\, qué evitar\, qué revisar y qué preparar cuando trabajas con IA.  \nPresentador: Alejandro Hernendez BereaBio: Alejandro es un emprendedor de impacto con tintes creativos. Ha creado y vendido 3 marcas en las industrias de capacitación e idiomas.  Ha funcionado como consultor Senior en Transformación Digital para startups en Silicon Valley y actualmente está desarrollando su startup en tecnologías para educación. Hoy en día invierte su tiempo armando Legos con sus hijas\, en talleres de marketing digital para pequeños empresarios\, y en temas de contenido digital.
URL:https://prosperacoops.org/event/de-la-inteligencia-artificial-al-corazon-del-cliente/
LOCATION:ON-LINE\, United States
CATEGORIES:Prospera
ATTACH;FMTTYPE=image/png:https://prosperacoops.org/wp-content/uploads/2024/10/1.png
ORGANIZER;CN="Prospera":MAILTO:info@prosperacoops.org
END:VEVENT
END:VCALENDAR