BEGIN:VCALENDAR
VERSION:2.0
PRODID:-//Prospera - ECPv6.15.17.1//NONSGML v1.0//EN
CALSCALE:GREGORIAN
METHOD:PUBLISH
X-ORIGINAL-URL:https://prosperacoops.org
X-WR-CALDESC:Events for Prospera
REFRESH-INTERVAL;VALUE=DURATION:PT1H
X-Robots-Tag:noindex
X-PUBLISHED-TTL:PT1H
BEGIN:VTIMEZONE
TZID:UTC
BEGIN:STANDARD
TZOFFSETFROM:+0000
TZOFFSETTO:+0000
TZNAME:UTC
DTSTART:20230101T000000
END:STANDARD
END:VTIMEZONE
BEGIN:VEVENT
DTSTART;TZID=UTC:20240926T170000
DTEND;TZID=UTC:20241212T200000
DTSTAMP:20260423T202604
CREATED:20240731T233016Z
LAST-MODIFIED:20240731T233016Z
UID:11000-1727370000-1734033600@prosperacoops.org
SUMMARY:Curso: Planea tu negocio Otoño 2024
DESCRIPTION:Dia: Jueves \nFecha:  9/26/24 a 12/12/24  (9 Sesiones online 1 graduación en persona Oakland CA) \nHorario: 5:00 PM a 8:00 PM \n¿Por donde? Zoom 9 Sesiones (graduación en persona Oakland CA) \nDescripción del curso:  \nEn Prospera reconocemos la necesidad de crear economías nuevas\, solidarias y humanas. Al mismo tiempo que a través de la cooperación y la colectividad plantamos semillas de una economía alternativa\, también promovemos el aprendizaje de herramientas tradicionales como lo es el plan de negocios. Esta es la base del lanzamiento y crecimiento de tu negocio\, sea este cooperativo o convencional.  \nEl curso Planea tu negocio te guía por cada etapa de planificación en tu negocio\,  te ayudará como ese mapa para estructurar\, operar y hacer crecer tu negocio. Crearás tu plan de negocio\, un documento casi esencial ya que te ayudará a presentar tu negocio a inversores y aceleradoras. En él estableces metas y expectativas a corto\, mediano y largo plazo\, así como las estrategias a seguir para llegar a ellas. \nEn este curso aprenderemos: \n\nLa mentalidad del emprendedor\nVisión\, misión y valores de tu negocio\nAnálisis de mercado: industria\, clientes y competencia\nDefinición de productos y servicios\, propuesta de valor\, estrategia de venta y precio\nOperaciones y actividades claves\, plan de producción\nEntendimiento financiero\, plan de metas financieras\, punto de equilibrio\, y opciones de acceso a capital\nFinanzas empresariales: ganancias y pérdidas\, proyecciones\, y opciones de acceso a capital\nFormalizando tu negocio y detalles de plan de negocios\n\nGraduate de este curso\, aprende y desaprende sobre tu negocio\, ¡No te lo pierdas! \n¿Qué esperar de esta clase de plan de negocios? \n\nEsta clase consta de 10 sesiones (9 online\, 1 graduación en persona en Oakland CA) donde proveeremos diversas herramientas y usamos tecnología como google Docs y hojas de cálculo\, entre otros\,  para ayudar a llegar a ese plan de negocio que deseas. \nEs un curso de 30 horas\, que además de dar herramientas\, te guía por el camino de entender tu negocio y a ti como dueña de este. Las clases son interactivas\, divertidas y participativas. \nComo apoyo a la creación de tu plan de negocio ofrecemos asesorías grupales cada semana\, estas son opcionales y tienen como objetivo darte ese apoyo extra para completar tus tareas o aclarar las dudas que van apareciendo durante las sesiones.\nComo apoyo para la terminación y entrega de tu plan de negocio (uno de los requisitos de este curso) te apoyamos con horas de Asistencia técnica 1:1 al finalizar el curso.\nAdemás de crear tu plan de negocios recibirás un certificado de completación del curso y tendrás la oportunidad de festejar con el equipo y tus compañeras en la fiesta de graduación de programas de prospera (12 de Diciembre/2024 – 05:00 PM – 08:00 PM en Oakland CA )\n\nFechas de la clase y ubicación:  \n\nSep 26 – 05:00 PM – 08:00 PM – Zoom \nOct 03 – 05:00 PM – 08:00 PM – Zoom \nOct 10 – 05:00 PM – 08:00 PM – Zoom \nOct 17 – 05:00 PM – 08:00 PM – Zoom \nOct 24 – 05:00 PM – 08:00 PM – Zoom \nNov 07- 05:00 PM – 08:00 PM – Zoom \nNov 14 – 05:00 PM – 08:00 PM – Zoom \nNov 21 – 05:00 PM – 08:00 PM – Zoom \nDic 05 – 05:00 PM – 08:00 PM – Zoom \nDic 12 – 05:00 PM – 08:00 PM – Graduación Presencial en Oakland CA (Dirección exacta por confirmar)\n\nRequisitos para participar: \n\nAtender a todas las sesiones (para poder recibir tu certificado de completación del curso\, se tiene que asistir mínimo al 80% de las sesiones del curso)\nLlenar la evaluación cada sesión\nVenir preparada para participar durante la clase y actividades (Este es un curso participativo)\nPuntualidad – Se iniciarán las clases a las 5:00 pm PST\nPreparar cualquier tarea antes de la clase\nTomar responsabilidad de agendar tu tiempo para la sesión o asesoría grupal\nCompartir tus avances y al término del curso entregar tu plan de negocios de tu plan de negocio con Prospera (los planes de negocios se mantendrán confidenciales/ no se compartirán con ninguna persona fuera de Prospera. El compartirlo con Prospera es para ayudarnos a monitorear y comunicar el impacto del programa)\nGraduarse del curso\n\nEste curso es de cupo limitado. ¡Gracias por llenar este formulario de inscripción con anticipación! \nInformación adicional:  \n\nEl curso se ofrece en español y es GRATIS con un valor estimado de $1\,500\nLa sesión 10 es en persona\, En Oakland\, CA (Dirección exacta por confirmar)\nContacto para apoyo en registracion:  Elisa Santillan – elisa@prosperacoops.org\n\nPresentadora: PROSPERA:  \n\nAna Castaño (Coordinadora de éxito empresarial) Presentadora Lider\nAnahi Rojas (Program success Manager) Presentadora de apoyo\nElisa Santillan (Coordinadora de éxito empresarial) Asistencia Tecnica
URL:https://prosperacoops.org/event/curso-planea-tu-negocio-otono-2024/
CATEGORIES:Prospera
ATTACH;FMTTYPE=image/png:https://prosperacoops.org/wp-content/uploads/2024/07/1-1.png
ORGANIZER;CN="Prospera":MAILTO:info@prosperacoops.org
END:VEVENT
BEGIN:VEVENT
DTSTART;TZID=UTC:20241102T100000
DTEND;TZID=UTC:20241102T160000
DTSTAMP:20260423T202604
CREATED:20240903T221413Z
LAST-MODIFIED:20240903T221413Z
UID:11060-1730541600-1730563200@prosperacoops.org
SUMMARY:Bootcamp en línea: Lanza tu cooperativa
DESCRIPTION:Descripción: \nLanza tu Cooperativa es un curso intensivo donde obtendrás las pautas básicas que te orientan al lanzamiento de un Negocio Cooperativo\, o incluso convertir tu negocio tradicional al modelo cooperativo.  \nDurante estas dos sesiones de 6 horas cada una\, obtendrás una guía y acompañamiento para redactar un plan de lanzamiento\, identificar la visión y estrategia de la gestión cooperativa\, y complementar posteriormente con sesiones enfocadas a medida de las necesidades de tu membresía\, juntes\, nuestro equipo\, el tuyo y otres aliades pondremos esfuerzos para el desarrollo de negocios cooperativos que contribuyen a las economías justas y solidarias en nuestras comunidades.   \n¡TE INVITAMOS A TI Y A 2 SOCIES MÁS PARA QUE SE REGISTREN\, LLENANDO EL FORMULARIO DE INTERÉS\, Y APROVECHEN ESTA EXCELENTE OPORTUNIDAD! \n¡EL CUPO ES LIMITADO\, PUES EL CURSO ES COMPLETAMENTE GRATUITO Y EN ESPAÑOL! \n—– \nFechas de las sesiones y ubicación:  \n\nSábado 2 de noviembre Lanza tu Cooperativa S1 de 10:00am a 4:00pm por Zoom\nSábado 9 de noviembre Lanza tu Cooperativa S2 de 10:00am a 4:00pm por Zoom\n\nInformación adicional:  \n\nEl curso se ofrece en español y totalmente GRATIS pero con un valor estimado de $1\,500 USD.\nSe aplica el curso llenando un formulario de interés\, y después de completarlo se les dará seguimiento para completar la inscripción.\nCelebraremos la graduación de este y otros cursos presencialmente en la ciudad de Oakland\, CA. El 12 de Diciembre de 5:00 a 8:00 pm. La dirección: Square – Uptown Station\, 1955 Broadway\, Oakland 94612\n\nContacto para apoyo a pre-inscripción: Celia Alvarez – celia@prosperacoops.org \n¡Llena tu formulario de interés aquí!
URL:https://prosperacoops.org/event/bootcamp-en-linea-lanza-tu-cooperativa/
LOCATION:ON-LINE\, United States
CATEGORIES:Prospera
ATTACH;FMTTYPE=image/png:https://prosperacoops.org/wp-content/uploads/2024/09/1-1.png
ORGANIZER;CN="Prospera":MAILTO:info@prosperacoops.org
END:VEVENT
BEGIN:VEVENT
DTSTART;TZID=UTC:20241106T180000
DTEND;TZID=UTC:20241106T200000
DTSTAMP:20260423T202604
CREATED:20241009T212751Z
LAST-MODIFIED:20241009T212751Z
UID:11109-1730916000-1730923200@prosperacoops.org
SUMMARY:Crea tu LinkedIn personal y tu página de empresa
DESCRIPTION:Descripción del taller:   \nEl tener un buen perfil de Linkedin te ayuda a captar nuevos clientes y a crear una buena red de contactos que te pueden ayudar durante tu emprendimiento. En este taller nos enfocaremos en la creación del Linkedin y página de empresa y recomendaciones para las que ya lo tienen creado. Durante el taller podrás ir creando y/o actualizando tu página\, así como participando a través de preguntas. Al finalizar el taller enviaremos la presentación a las que han asistido. \nPresentadora: Beatriz Vallejo \nBio: \nMe llamo Bea\, nací y crecí en Barcelona. He trabajado en Recursos Humanos durante gran parte de mi carrera\, ya que quería ayudar a personas en su trabajo. Me mudé a Estados Unidos hace 9 años por el trabajo de mi marido\, y empecé a buscar trabajo. Es ahí donde me di cuenta que lo que realmente quería\, era ayudar a mujeres a empezar una nueva vida en un nuevo país\, pero no encontré la manera de hacerlo. Empecé a trabajar para un par de ONG s. Después nació mi hija y estuve un tiempo sin trabajar\, hasta que volví a trabajar como Job Developer\, ayudando a personas a encontrar trabajo. Pero quería hacer más\, y fue entonces cuando decidí que había llegado el momento de cumplir mi sueño y ayudar a mujeres inmigrantes a empezar una nueva vida. Por eso decidí emprender y obtener mi certificado como coach. Actualmente trabajo como Coach para una empresa de outplacement y estoy trabajando en mi propio negocio de coaching para ayudar a mujeres inmigrantes con su vida y carrera.
URL:https://prosperacoops.org/event/crea-tu-linkedin-personal-y-tu-pagina-de-empresa/
LOCATION:ON-LINE\, United States
CATEGORIES:Prospera
ATTACH;FMTTYPE=image/png:https://prosperacoops.org/wp-content/uploads/2024/10/2.png
ORGANIZER;CN="Prospera":MAILTO:info@prosperacoops.org
END:VEVENT
BEGIN:VEVENT
DTSTART;TZID=UTC:20241114T050000
DTEND;TZID=UTC:20241114T190000
DTSTAMP:20260423T202604
CREATED:20241031T051632Z
LAST-MODIFIED:20241031T051648Z
UID:11220-1731560400-1731610800@prosperacoops.org
SUMMARY:Hablemos de las Opciónes de acceso a Capital
DESCRIPTION:Descripción del taller:   \nInvitados especiales que tienen experiencia en ofrecer opciones de acceso a capital a emprendedoras con oportunidades y desafíos similares a nosotras\, estarán presentando la información de los recursos\, requisitos y ventajas que ofrecen las organizaciones que ellos representan. \nTe invitamos a ser parte de esta conversación\, y a que invites a toda aquella persona que tenga acceso a la red social de facebook\, para que con la experiencia\, las dudas\, recomendaciones y comentarios crezcamos juntas todas las personas participantes.  \nPanelista 1: Christian Magallón \nChristian Magallon\, haciendo uso de su experiencia trabajando con pequeñas empresas\, trabaja para proporcionar préstamos rápidos y asequibles para fomentar el crecimiento de las pequeñas empresas propiedad de minorías y de mujeres. Mediante el establecimiento de asociaciones estratégicas\, se dedica a crear oportunidades que empoderen a los empresarios locales y contribuyan significativamente al desarrollo económico de la región. \nPanelista 2: Carlos Quintanilla \nCarlos Quintanilla\, es bilingüe en español e inglés. Como profesional dedicado \, me especializo en empoderar a propietarios de pequeñas empresas. Aprovechando mi experiencia\, me comprometo a brindar el más alto nivel de asesoramiento\, escuchando activamente las necesidades de mis clientes. Más allá de orientación financiara\, mi dedicación se extiende a fomentar comunidades vibrantes a través del impacto positivo del capital accesible. \n  \nPara participar\, visita nuestra página de Facebook. \n 
URL:https://prosperacoops.org/event/hablemos-de-las-opcion-de-acceso-a-capital/
LOCATION:ON-LINE\, United States
CATEGORIES:Prospera
ATTACH;FMTTYPE=image/png:https://prosperacoops.org/wp-content/uploads/2024/10/1-2.png
ORGANIZER;CN="Prospera":MAILTO:info@prosperacoops.org
END:VEVENT
BEGIN:VEVENT
DTSTART;TZID=UTC:20241114T180000
DTEND;TZID=UTC:20241114T200000
DTSTAMP:20260423T202604
CREATED:20241023T165130Z
LAST-MODIFIED:20241023T165130Z
UID:11182-1731607200-1731614400@prosperacoops.org
SUMMARY:“Red de Emprendedoras Latinas. Avanzando con gratitud: reflexiones sobre Logros y Persistencia”
DESCRIPTION:Descripción: \nA medida que nos acercamos a una temporada de gratitud y al final del año en el calendario\, tal vez comencemos a desacelerar nuestro negocio (¡o acelerarlo en algunos casos!). No te pierdas esta oportunidad para reflexionar y celebrar tus éxitos\, aprende de los desafíos y honra tus cualidades\, como la perseverancia. En este taller\, serás guiada en un tiempo de reflexión personal y grupal y\, con suerte\, te sentirás más llena de gratitud y lista para terminar el año con un propósito. \nFecha\, ubicación y horario: \n\n\nJueves 14 de noviembre 2024 \n\n\nOficinas de Renaissance: 275 Fifth St. | San Francisco\, CA | 94103 [3rd  piso\, a 3 cuadras de la estación del Bart. \n\n\nLlegada 5:30 pm.  Iniciamos de 6:00- 8:00 pm \n\n\nPresentadora: Eva Orbuch \nCoach de vida y liderazgo\, feroz defensora y facilitadora eficaz que apoya a personas y organizaciones de todos los orígenes para avanzar a través de la inercia hacia los resultados significativos que desean. \nInformación adicional: \n\n\n¿Preguntas? \n\n\nPara Próspera: celia@prosperacoops.org \nPara Renaissance: wbc@rencenter.org 415 894-9779
URL:https://prosperacoops.org/event/red-de-emprendedoras-latinas-avanzando-con-gratitud-reflexiones-sobre-logros-y-persistencia/
LOCATION:Renaissance Offices\, 275 Fifth St.\, San Francisco\, CA\, 94103\, United States
CATEGORIES:Prospera
ATTACH;FMTTYPE=image/png:https://prosperacoops.org/wp-content/uploads/2024/10/Red-de-Latinas-Nov-2024-flyer.png
END:VEVENT
BEGIN:VEVENT
DTSTART;TZID=UTC:20241120T180000
DTEND;TZID=UTC:20241120T200000
DTSTAMP:20260423T202604
CREATED:20241009T213104Z
LAST-MODIFIED:20241009T213104Z
UID:11113-1732125600-1732132800@prosperacoops.org
SUMMARY:Despega tu Negocio: Cómo Triunfar con E-Commerce en la Era Digital
DESCRIPTION:Descripción del taller:  ¿Estás lista para llevar tu negocio al siguiente nivel? En este taller\, diseñado especialmente para emprendedoras latinas\, aprenderás las claves del éxito en el mundo del comercio electrónico. Exploraremos estrategias prácticas para lanzar\, optimizar y escalar tu tienda en línea\, abarcando desde la elección de plataformas y creación de un sitio web atractivo\, hasta el manejo de pagos y la fidelización de clientes. Además\, conocerás herramientas digitales y tácticas de marketing que te ayudarán a destacar en un mercado competitivo. ¡Es tu momento de despegar y alcanzar nuevos horizontes con tu negocio online! \nPresentadora: Gabriela Tom Zamudio \nBio: Gabriela es una emprendedora\, ingeniera de software y educadora. Después de iniciar su carrera en JPMorgan Chase\, se trasladó al sector tecnológico en 2013\, trabajando con clientes como Gap\, Kaiser y startups fintech en ThoughtWorks. Apasionada por empoderar a las latinas\, fundó Eku para enseñar programación y cofundó Founders Gym. Gabriela ha liderado talleres para organizaciones como Girl Develop It y Women Who Code. Actualmente\, se enfoca en Digital Jump\, ayudando a emprendedores LatinX a superar desafíos tecnológicos\, con iniciativas como la serie #LoQueCallamosLasEmprendedoras.
URL:https://prosperacoops.org/event/despega-tu-negocio-como-triunfar-con-e-commerce-en-la-era-digital/
LOCATION:ON-LINE\, United States
CATEGORIES:Prospera
ATTACH;FMTTYPE=image/png:https://prosperacoops.org/wp-content/uploads/2024/10/3.png
ORGANIZER;CN="Prospera":MAILTO:info@prosperacoops.org
END:VEVENT
END:VCALENDAR