BEGIN:VCALENDAR
VERSION:2.0
PRODID:-//Prospera - ECPv6.15.17.1//NONSGML v1.0//EN
CALSCALE:GREGORIAN
METHOD:PUBLISH
X-WR-CALNAME:Prospera
X-ORIGINAL-URL:https://prosperacoops.org
X-WR-CALDESC:Events for Prospera
REFRESH-INTERVAL;VALUE=DURATION:PT1H
X-Robots-Tag:noindex
X-PUBLISHED-TTL:PT1H
BEGIN:VTIMEZONE
TZID:UTC
BEGIN:STANDARD
TZOFFSETFROM:+0000
TZOFFSETTO:+0000
TZNAME:UTC
DTSTART:20240101T000000
END:STANDARD
END:VTIMEZONE
BEGIN:VEVENT
DTSTART;TZID=UTC:20250205T180000
DTEND;TZID=UTC:20250205T200000
DTSTAMP:20260422T184224
CREATED:20241217T162256Z
LAST-MODIFIED:20250110T183754Z
UID:11301-1738778400-1738785600@prosperacoops.org
SUMMARY:Activa tu Marca en Redes Sociales Parte 1
DESCRIPTION:Descripción del taller:   \nEn este taller aprenderás a identificar a tu público objetivo y a generar contenido atractivo y efectivo. Exploraremos el potencial de la identidad de tu marca y te enseñaremos cómo reconocer y conectar con tu audiencia en redes sociales. Además\, analizaremos marcas de referencia en el ámbito digital y te daremos las claves para crear contenido que cautive y enganche a tu comunidad. \nPresentador: Catalina Luna \nBio:  \nHola\, soy Catalina Luna\, soy chilena\, diseñadora especializada en marketing y comunicaciones\, y llevo más de 8 años viviendo en el área de la Bahía. Con más de 10 años de experiencia en diseño gráfico y comunicación\, me enfoco en entender las necesidades de marcas y clientes para conectar efectivamente con sus públicos. Mi misión es fortalecer la identidad de cada marca mediante soluciones de comunicación visual atractivas que logren la visibilidad deseada.
URL:https://prosperacoops.org/event/activa-tu-marca-en-redes-sociales-parte-1/
LOCATION:ON-LINE\, United States
CATEGORIES:Prospera
ATTACH;FMTTYPE=image/png:https://prosperacoops.org/wp-content/uploads/2024/12/3-1.png
ORGANIZER;CN="Prospera":MAILTO:info@prosperacoops.org
END:VEVENT
BEGIN:VEVENT
DTSTART;TZID=UTC:20250212T180000
DTEND;TZID=UTC:20250212T200000
DTSTAMP:20260422T184224
CREATED:20241217T162507Z
LAST-MODIFIED:20250110T183947Z
UID:11303-1739383200-1739390400@prosperacoops.org
SUMMARY:Activa tu Marca en Redes Sociales Parte 2
DESCRIPTION:Descripción del taller:   \nEn este taller aprenderás a identificar a tu público objetivo y a generar contenido atractivo y efectivo. Exploraremos el potencial de la identidad de tu marca y te enseñaremos cómo reconocer y conectar con tu audiencia en redes sociales. Además\, analizaremos marcas de referencia en el ámbito digital y te daremos las claves para crear contenido que cautive y enganche a tu comunidad. \nPresentadora: Catalina Luna \nBio:  \nHola\, soy Catalina Luna\, soy chilena\, diseñadora especializada en marketing y comunicaciones\, y llevo más de 8 años viviendo en el área de la Bahía. Con más de 10 años de experiencia en diseño gráfico y comunicación\, me enfoco en entender las necesidades de marcas y clientes para conectar efectivamente con sus públicos. Mi misión es fortalecer la identidad de cada marca mediante soluciones de comunicación visual atractivas que logren la visibilidad deseada.
URL:https://prosperacoops.org/event/activa-tu-marca-en-redes-sociales-parte-2/
LOCATION:ON-LINE\, United States
CATEGORIES:Prospera
ATTACH;FMTTYPE=image/png:https://prosperacoops.org/wp-content/uploads/2024/12/5-1.png
ORGANIZER;CN="Prospera":MAILTO:info@prosperacoops.org
END:VEVENT
BEGIN:VEVENT
DTSTART;TZID=UTC:20250219T180000
DTEND;TZID=UTC:20250219T200000
DTSTAMP:20260422T184224
CREATED:20250109T180137Z
LAST-MODIFIED:20250109T180137Z
UID:11320-1739988000-1739995200@prosperacoops.org
SUMMARY:Taller Virtual: Proyecciones Financieras para tu Negocio
DESCRIPTION:Descripción del taller:   \n¡Descubre el poder de tus números con nuestro Taller de Proyecciones Financieras! \n¿Quieres llevar tu negocio al siguiente nivel? En este taller aprenderás\, de forma práctica y sencilla\, a crear proyecciones financieras que te ayudarán a visualizar el futuro de tu emprendimiento. Juntos exploraremos cómo calcular ingresos\, manejar costos\, y entender tu punto de equilibrio\, ¡todo con herramientas modernas y ejemplos reales que harán este aprendizaje emocionante! Al final del taller\, tendrás la confianza y el conocimiento para tomar decisiones financieras estratégicas y asegurar el éxito de tu negocio. ¡Únete a nosotros y transforma tus ideas en metas alcanzables! \nPresentador: Diego Zapata \nBio: \nDiego Zapata\, un colombiano apasionado por el progreso de la comunidad hispana en los Estados Unidos\, cuenta con más de seis años de experiencia en asesoramiento y formación en emprendimiento y desarrollo financiero. Con un enfoque dedicado\, ha guiado a más de 400 emprendedores hacia el éxito\, brindando herramientas y conocimientos fundamentales para alcanzar sus metas financieras y profesionales. Su compromiso con el empoderamiento económico de la comunidad hispana lo ha convertido en un líder inspirador y una figura influyente en el ámbito del emprendimiento. 
URL:https://prosperacoops.org/event/taller-virtual-proyecciones-financieras-para-tu-negocio/
LOCATION:ON-LINE\, United States
CATEGORIES:Prospera
ATTACH;FMTTYPE=image/png:https://prosperacoops.org/wp-content/uploads/2025/01/1.png
ORGANIZER;CN="Prospera":MAILTO:info@prosperacoops.org
END:VEVENT
END:VCALENDAR