BEGIN:VCALENDAR
VERSION:2.0
PRODID:-//Prospera - ECPv6.15.17.1//NONSGML v1.0//EN
CALSCALE:GREGORIAN
METHOD:PUBLISH
X-WR-CALNAME:Prospera
X-ORIGINAL-URL:https://prosperacoops.org
X-WR-CALDESC:Events for Prospera
REFRESH-INTERVAL;VALUE=DURATION:PT1H
X-Robots-Tag:noindex
X-PUBLISHED-TTL:PT1H
BEGIN:VTIMEZONE
TZID:UTC
BEGIN:STANDARD
TZOFFSETFROM:+0000
TZOFFSETTO:+0000
TZNAME:UTC
DTSTART:20230101T000000
END:STANDARD
END:VTIMEZONE
BEGIN:VEVENT
DTSTART;TZID=UTC:20240524T180000
DTEND;TZID=UTC:20240524T193000
DTSTAMP:20260426T032254
CREATED:20240425T181852Z
LAST-MODIFIED:20240425T233059Z
UID:10818-1716573600-1716579000@prosperacoops.org
SUMMARY:Podcast “Para Todas” - En directo! - El Arte de Ver la Vida con Daphne Rizzo y Claudia Arroyo
DESCRIPTION:¡Ven a vivir el nuevo episodio del Podcast “Para Todas” en directo! En vivo viviremos la entrevista a nuestra próxima invitada y podrás participar en directo con tus testimonios para que también formen parte.  \nEn esta ocasión Claudia Arroyo\, Directora Ejecutiva de Prospera\, conversará con Daphne Rizzo\, participante de los programas de Prospera\, actualmente en el programa Vuela (antiguo Fellowship) y fundadora del negocio Pro-Realty Eco Cleaning Solutions.  \nEl tema es el “El Arte de la Ver la Vida”. ¿Y te preguntamos?: ¿Cómo ves tu la vida\, con el vaso medio lleno o medio vacío? ¿Cómo vives tú\, tus “errores”? cómo una oportunidad o como un fallo. Tocaremos temas como la capacidad de perdón\, la actitud que le pones a la vida\, de que aunque las circunstancias a veces son difíciles\, tomas un impulso y lo transformas en algo bonito y que impacta a los demás… estos temas y muchos más lo haremos de la mano de Daphne\, originaria de Guatemala\, emprendedora incansable y solidaria que nos contará su experiencia de vida desde esta mirada transformadora y solidaria. ¡Será una edición muy especial\, te esperamos! \nRegístrate en en este enlace bit.ly/Podcast-ParaTodas-DaphneRizzo y acompáñanos en directo
URL:https://prosperacoops.org/event/podcast-para-todas-en-directo-el-arte-de-la-ver-la-vida-con-daphne-rizzo-y-claudia-arroyo/
LOCATION:ON-LINE\, United States
CATEGORIES:Prospera
ATTACH;FMTTYPE=image/png:https://prosperacoops.org/wp-content/uploads/2024/04/Para-Todas-Episodio-12-Daphne-Rizzo.png
ORGANIZER;CN="Prospera":MAILTO:info@prosperacoops.org
END:VEVENT
END:VCALENDAR