BEGIN:VCALENDAR
VERSION:2.0
PRODID:-//Prospera - ECPv6.15.17.1//NONSGML v1.0//EN
CALSCALE:GREGORIAN
METHOD:PUBLISH
X-ORIGINAL-URL:https://prosperacoops.org
X-WR-CALDESC:Events for Prospera
REFRESH-INTERVAL;VALUE=DURATION:PT1H
X-Robots-Tag:noindex
X-PUBLISHED-TTL:PT1H
BEGIN:VTIMEZONE
TZID:UTC
BEGIN:STANDARD
TZOFFSETFROM:+0000
TZOFFSETTO:+0000
TZNAME:UTC
DTSTART:20240101T000000
END:STANDARD
END:VTIMEZONE
BEGIN:VEVENT
DTSTART;TZID=UTC:20250312T180000
DTEND;TZID=UTC:20250312T200000
DTSTAMP:20260422T200101
CREATED:20250220T172526Z
LAST-MODIFIED:20250220T172526Z
UID:11370-1741802400-1741809600@prosperacoops.org
SUMMARY:Ciberseguridad para pequeñas Empresas: Protege tu Negocio en Línea
DESCRIPTION:Descripción del taller:    \nEn un mundo cada vez más digital\, la seguridad en línea es clave para el éxito de cualquier negocio. Este taller está diseñado especialmente para latinas emprendedoras en Estados Unidos\, dueñas de pequeños negocios. \nAprenderás de manera práctica y sencilla cómo proteger tu negocio de fraudes\, ataques cibernéticos y robo de información. Abordaremos temas como: \n\n Cómo crear contraseñas seguras y administrarlas fácilmente\nIdentificación de correos y mensajes fraudulentos (phishing\nProtección de datos de clientes y transacciones en línea\nUso seguro de redes sociales y plataformas digitales\nHerramientas y recursos gratuitos para fortalecer la seguridad de tu negocio\n\n¡No necesitas conocimientos técnicos! Este taller te brindará herramientas accesibles y consejos prácticos para proteger tu emprendimiento y la confianza de tus clientes. \nPresentador(a): Gabriela Zamudio \nBio:  \nMi nombre es Gabriela Tom-Zamudio y quizá al igual que tu soy emprendedora. También soy programadora\, educadora y mamá. Creo firmemente que la tecnología es creada por y para la diversidad de nuestra población y continuamente trabajo en iniciativas que ayuden a ello. Mi misión es la de apoyar\, educar e inspirar a ser la mejor versión de nosotros mismos sin importar de dónde venimos. \nInicié mi carrera en tecnología en 2013 cuando trabajé como Software Engineer y consultant en Thoughtworks y puse mi espíritu de emprendimiento en práctica a través de iniciativas como \nEku donde me enfoqué a ayudar a Latinas a aprender a programar\, Anpi donde trabajé con artesanos Peruanos y fui ex co-fundadora de FounderGym. Actualmente trabajo desarrollando Digital Jump donde nos esforzamos a ayudar a emprendedoras latinx quienes buscan superar los obstáculos de la tecnología y digitalizarse.
URL:https://prosperacoops.org/event/ciberseguridad-para-pequenas-empresas-protege-tu-negocio-en-linea/
LOCATION:ON-LINE\, United States
CATEGORIES:Prospera
ATTACH;FMTTYPE=image/png:https://prosperacoops.org/wp-content/uploads/2025/02/3.png
ORGANIZER;CN="Prospera":MAILTO:info@prosperacoops.org
END:VEVENT
END:VCALENDAR