BEGIN:VCALENDAR
VERSION:2.0
PRODID:-//Prospera - ECPv6.15.17.1//NONSGML v1.0//EN
CALSCALE:GREGORIAN
METHOD:PUBLISH
X-WR-CALNAME:Prospera
X-ORIGINAL-URL:https://prosperacoops.org
X-WR-CALDESC:Events for Prospera
REFRESH-INTERVAL;VALUE=DURATION:PT1H
X-Robots-Tag:noindex
X-PUBLISHED-TTL:PT1H
BEGIN:VTIMEZONE
TZID:UTC
BEGIN:STANDARD
TZOFFSETFROM:+0000
TZOFFSETTO:+0000
TZNAME:UTC
DTSTART:20240101T000000
END:STANDARD
END:VTIMEZONE
BEGIN:VEVENT
DTSTART;TZID=UTC:20250702T170000
DTEND;TZID=UTC:20250702T180000
DTSTAMP:20260422T114728
CREATED:20250617T230155Z
LAST-MODIFIED:20250617T230155Z
UID:11639-1751475600-1751479200@prosperacoops.org
SUMMARY:Sesión informativa: Descubre todo sobre Lanza Tu Cooperativa
DESCRIPTION:¿Te gustaría tener un negocio donde todas las personas toman decisiones juntas\, se apoyan mutuamente y comparten los beneficios?¿Tienes curiosidad sobre el curso Lanza Tu Cooperativa? Ven hacer realidad tu sueño colectivo.  \nAcompáñanos a una plática abierta donde compartiremos todos los detalles sobre el curso\, qué puedes esperar\, y cómo inscribirte. También habrá espacio para que hagas tus preguntas en vivo. \nCuando: miércoles 2 de julio\, 5pm-6pm PST\nDonde: Por Zoom + Facebook Live  \n\n¡Te esperamos!
URL:https://prosperacoops.org/event/sesion-informativa-descubre-todo-sobre-lanza-tu-cooperativa/
LOCATION:ON-LINE\, United States
CATEGORIES:Prospera
ATTACH;FMTTYPE=image/png:https://prosperacoops.org/wp-content/uploads/2025/06/1-1-scaled.png
ORGANIZER;CN="Prospera":MAILTO:info@prosperacoops.org
END:VEVENT
END:VCALENDAR