BEGIN:VCALENDAR
VERSION:2.0
PRODID:-//Prospera - ECPv6.15.17.1//NONSGML v1.0//EN
CALSCALE:GREGORIAN
METHOD:PUBLISH
X-ORIGINAL-URL:https://prosperacoops.org
X-WR-CALDESC:Events for Prospera
REFRESH-INTERVAL;VALUE=DURATION:PT1H
X-Robots-Tag:noindex
X-PUBLISHED-TTL:PT1H
BEGIN:VTIMEZONE
TZID:UTC
BEGIN:STANDARD
TZOFFSETFROM:+0000
TZOFFSETTO:+0000
TZNAME:UTC
DTSTART:20250101T000000
END:STANDARD
END:VTIMEZONE
BEGIN:VEVENT
DTSTART;TZID=UTC:20260506T180000
DTEND;TZID=UTC:20260506T200000
DTSTAMP:20260422T224547
CREATED:20260312T205455Z
LAST-MODIFIED:20260312T205455Z
UID:12079-1778090400-1778097600@prosperacoops.org
SUMMARY:Taller Virtual: El Arte de conversar en Eventos de Networking
DESCRIPTION:Descripción del Tema: \nAprender a romper el hielo\, presentarse y venderse de manera eficiente es un reto para muchos. En este taller aprenderás técnicas y herramientas de comunicación para tener conversaciones cortas\, estratégicas y significativas en los eventos de Networking. \nNo más gasto de energía y palabras innecesarias. \nPresentadora: Damaris Echevarría \nBio:  \nDámaris Echevarría mentora\, coach de oratoria\, impulsora de confianza. Quien te enseña a hablar en público de manera auténtica y natural. La que te saca del closet del miedo y la vergüenza. Embajadora de la fe\, la alegría y el entusiasmo. \n 
URL:https://prosperacoops.org/event/taller-virtual-el-arte-de-conversar-en-eventos-de-networking/
LOCATION:ON-LINE\, United States
CATEGORIES:Prospera
ATTACH;FMTTYPE=image/png:https://prosperacoops.org/wp-content/uploads/2026/03/Eventos-Crece-Banners-11.png
ORGANIZER;CN="Prospera":MAILTO:info@prosperacoops.org
END:VEVENT
BEGIN:VEVENT
DTSTART;TZID=UTC:20260513T170000
DTEND;TZID=UTC:20260513T200000
DTSTAMP:20260422T224547
CREATED:20260316T234905Z
LAST-MODIFIED:20260316T234958Z
UID:12094-1778691600-1778702400@prosperacoops.org
SUMMARY:Taller Virtual: Cómo registrar su LLC
DESCRIPTION:Descripción del tema:  \nEn esta presentación podemos dar mucho más detalle sobre cómo hacer todos los pasos necesarios para registrar su LLC. Podemos enseñar cómo se hace en línea cada paso compartiendo nuestra pantalla. Incluyendo cómo sacar un EIN (número para pagar impuestos)\, cómo someter la declaración de información\, etc.  \nPresentadores: The Sustainable Economies Law Center ( SELC ) \nBio: \nItzel Nuño: Itzel es Coordinadora de Proyectos en el Centro Legal de Economías Sostenibles. Su enfoque es en cooperativas de inmigrantes y otros tipos de trabajos democráticos. Itzel valora que los trabajadores tengan voz en sus lugares de trabajo y puedan defender sus necesidades. Antes de trabajar en el Centro Legal de Economías Sostenibles\, Itzel trabajó en una organización de derechos del inmigrante y está muy emocionada de poder seguir trabajando con la comunidad. 
URL:https://prosperacoops.org/event/taller-virtual-como-registrar-su-llc-2/
LOCATION:ON-LINE\, United States
CATEGORIES:Prospera
ATTACH;FMTTYPE=image/png:https://prosperacoops.org/wp-content/uploads/2026/03/Eventos-Crece-Banners-13.png
ORGANIZER;CN="Prospera":MAILTO:info@prosperacoops.org
END:VEVENT
BEGIN:VEVENT
DTSTART;TZID=UTC:20260701T180000
DTEND;TZID=UTC:20260701T200000
DTSTAMP:20260422T224547
CREATED:20260417T011103Z
LAST-MODIFIED:20260417T011103Z
UID:12166-1782928800-1782936000@prosperacoops.org
SUMMARY:Taller Virtual: Acuerdo de Operaciones
DESCRIPTION:Descripción del tema: En esta capacitación resaltaremos los principales componentes de un Acuerdo de Operaciones para una LLC gestionada democráticamente. Compartiremos información sobre lo que se debe incluir en ciertas secciones\, cuáles son las preguntas que los miembros de la cooperativa deberían discutir como grupo\, y discutiremos la información que es importante incluir específicamente para las cooperativas propiedad de inmigrantes. \nPresentadores: The Sustainable Economies Law Center ( SELC ) \nTobias Damm-Luhr: aprovecha su formación en derecho para intentar eliminar barreras: barreras que impiden que las personas cuiden de la tierra\, de la vivienda y se cuiden unas a otras. Tobias ha trabajado con cooperativas de trabajadores en comunidades de inmigrantes\, así como con organizaciones sin ánimo de lucro y cooperativas que gestionan terrenos y viviendas para personas con bajos ingresos\, inmigrantes y personas sin hogar. También le entusiasma formar parte de un lugar de trabajo democrático y es miembro de los Círculos de Comunicación\, Finanzas y General del Centro Legal. Sueña con un futuro en el que ya no se necesiten abogados. \nItzel Nuño: Itzel es Coordinadora de Proyectos en el Centro Legal de Economías Sostenibles. Su enfoque es en cooperativas de inmigrantes y otros tipos de trabajos democráticos. Itzel valora que los trabajadores tengan voz en sus lugares de trabajo y puedan defender sus necesidades. Antes de trabajar en el Centro Legal de Economías Sostenibles\, Itzel trabajó en una organización de derechos del inmigrante y está muy emocionada de poder seguir trabajando con la comunidad.  \nDorian Payán: Es Director de Relaciones Holísticas con la Tierra. Es un abogado que se especializa en sistemas alimentarios desde el marco de la agroecología. Dorian se convirtió en abogado tras años de trabajar como agricultor y tras constatar la drástica necesidad de apoyar a los campesinos en el desarrollo de cooperativas libres de explotación laboral. El trabajo de Dorian también se centra en la justicia de la tierra y en la rematriación\, la cual crea relaciones con la tierra en las que todas las personas puedan sentirse parte de ella. \n 
URL:https://prosperacoops.org/event/taller-virtual-acuerdo-de-operaciones-2/
LOCATION:ON-LINE\, United States
CATEGORIES:Prospera
ATTACH;FMTTYPE=image/png:https://prosperacoops.org/wp-content/uploads/2026/04/Eventos-Crece-Banners-18.png
ORGANIZER;CN="Prospera":MAILTO:info@prosperacoops.org
END:VEVENT
END:VCALENDAR