BEGIN:VCALENDAR
VERSION:2.0
PRODID:-//Prospera - ECPv6.15.17.1//NONSGML v1.0//EN
CALSCALE:GREGORIAN
METHOD:PUBLISH
X-WR-CALNAME:Prospera
X-ORIGINAL-URL:https://prosperacoops.org
X-WR-CALDESC:Events for Prospera
REFRESH-INTERVAL;VALUE=DURATION:PT1H
X-Robots-Tag:noindex
X-PUBLISHED-TTL:PT1H
BEGIN:VTIMEZONE
TZID:UTC
BEGIN:STANDARD
TZOFFSETFROM:+0000
TZOFFSETTO:+0000
TZNAME:UTC
DTSTART:20210101T000000
END:STANDARD
END:VTIMEZONE
BEGIN:VEVENT
DTSTART;TZID=UTC:20220908T180000
DTEND;TZID=UTC:20221201T210000
DTSTAMP:20260425T194351
CREATED:20220712T185727Z
LAST-MODIFIED:20220712T185947Z
UID:9093-1662660000-1669928400@prosperacoops.org
SUMMARY:Explora tu cooperativa. Liderazgo\, Emprendimiento y Cooperativismo
DESCRIPTION:VEN Y DESCUBRE NUEVAS OPORTUNIDADES PARA TU FUTURO  \nTodos los Jueves del 8 de septiembre a 1 de diciembre del 2022 de 6pm a 9pm en PST por Zoom \n3 sesiones serán en persona en Oakland\, CA. Prospera seguirá las recomendaciones sanitarias debido al COVID con la prioridad de mantener la salud\, la seguridad y el bienestar de participantes\, personal y facilitadoras en las sesiones que sean en persona.  \nAl final de las 12 sesiones del programa habrás: \n\nAprendido sobre el modelo de negocios de cooperativas de trabajadores y su ecosistema\nAprendido herramientas para comunicarse efectivamente\nEvaluado si quieres iniciar o unirte a una cooperativa\nTerminado el primer borrador tu plan de negocios\nGanado tu lugar para avanzar en un curso avanzado de Plan de Negocios y mucho más!\n\n¡El curso es GRATUITO con un valor estimado de $1\,500! Tenemos cupo limitado¡ \nPara más información: explora@prosperacoops.org – (510) 960-9427 – prosperacoops.org
URL:https://prosperacoops.org/event/explora-tu-cooperativa-liderazgo-emprendimiento-y-cooperativismo-2/
LOCATION:ON-LINE\, United States
CATEGORIES:Prospera
ATTACH;FMTTYPE=image/png:https://prosperacoops.org/wp-content/uploads/2022/07/TEMPLATES-Flyer-Explora-tu-Cooperativa-Online-Sep-2022-Print-Banner-horizontal.png
ORGANIZER;CN="Prospera":MAILTO:info@prosperacoops.org
END:VEVENT
BEGIN:VEVENT
DTSTART;TZID=UTC:20221101T170000
DTEND;TZID=UTC:20221101T190000
DTSTAMP:20260425T194351
CREATED:20221018T153710Z
LAST-MODIFIED:20221018T153710Z
UID:9415-1667322000-1667329200@prosperacoops.org
SUMMARY:Sistema Financiero I: Historia y cómo funciona
DESCRIPTION:Esta serie de dos talleres tiene como objetivo ampliar nuestro conocimiento de este sistema que tiene tanta influencia en nuestras vidas\, familias y negocios. Entendiendo el sistema\, tenemos más capacidades y libertad para participar de una forma que nos beneficie a nosotras y a nuestra comunidad.  \nTaller I: objetivos de aprendizaje \n\nConocer los orígenes del sistema financiero (pista: empezó con la colonización!)\nEntender cómo el sistema financiero excluye a los que tienen menos dinero\, impacta nuestro comportamiento\, y actúa para mantener un sistema económico que extrae y explota a unos para el beneficio de otros. \nVisionar formas de usar nuestro poder colectivo para participar en el sistema financiero para el beneficio de nuestras comunidades. \n\n¿Quién lo dara? Dani Ancin  y Daniela Presley
URL:https://prosperacoops.org/event/sistema-financiero-i-historia-y-como-funciona/
LOCATION:ON-LINE\, United States
CATEGORIES:Prospera
ATTACH;FMTTYPE=image/png:https://prosperacoops.org/wp-content/uploads/2022/10/4-3.png
ORGANIZER;CN="Prospera":MAILTO:info@prosperacoops.org
END:VEVENT
BEGIN:VEVENT
DTSTART;TZID=UTC:20221102T180000
DTEND;TZID=UTC:20221102T200000
DTSTAMP:20260425T194351
CREATED:20221018T154135Z
LAST-MODIFIED:20221018T154135Z
UID:9422-1667412000-1667419200@prosperacoops.org
SUMMARY:Digitalizate profesionalmente
DESCRIPTION:Descripción del tema: Para cualquier negocio que utilice citas y agenda. Domina Google Calendar\, y Gmail para generar una percepción profesional de tu marca y de tu persona.  \nPresentador: Alejandro Hernandez Berea \n 
URL:https://prosperacoops.org/event/digitalizate-profesionalmente/
LOCATION:ON-LINE\, United States
CATEGORIES:Prospera
ATTACH;FMTTYPE=image/png:https://prosperacoops.org/wp-content/uploads/2022/10/3-2.png
ORGANIZER;CN="Prospera":MAILTO:info@prosperacoops.org
END:VEVENT
BEGIN:VEVENT
DTSTART;TZID=UTC:20221108T180000
DTEND;TZID=UTC:20221108T200000
DTSTAMP:20260425T194351
CREATED:20221019T205555Z
LAST-MODIFIED:20221019T205639Z
UID:9444-1667930400-1667937600@prosperacoops.org
SUMMARY:Coalición Levantando Nuestras Voces Presenta: Mercadito Virtual
DESCRIPTION:Si eres emprendedora y/o eres una persona que quiere apoyar a emprendedoras comprando sus productos y servicios\, ven al Mercadito Virtual el 8 de noviembre.\nEstamos muy orgullosos de presentarles a grandes mujeres y sus maravillosos negocios\, con productos y servicios únicos que solo encontrarás aquí.\nTendrás la experiencia de interactuar con diferentes emprendedoras latinas del Área de la Bahía. ¡Descubrirás nuevos negocios con servicios y productos hechos por Mujeres Latinas Emprededoras! \n¡Si crees que juntxs somos imparables\, te esperamos en el Mercadito Virtual!\nEste evento será bilingüe en Español e Inglés\, con traducción simultánea.\n¡Te esperamos! \n¡Regístrate antes del 7 de noviembre para asegurar tu entrada!\nDía: 8 de noviembre del 2022\nHora: 6:00 pm a 8:00 pm (PST) \nEvento liderado por Centro\, Renaissance y Prospera como parte de la Coalición Levantando Nuestras Voces.\nPara más información llámanos al (510) 556-4249 o visítanos en Centro Community Partners
URL:https://prosperacoops.org/event/coalicion-levantando-nuestras-voces-presenta-mercadito-virtual/
LOCATION:ON-LINE\, United States
CATEGORIES:Prospera
ATTACH;FMTTYPE=image/png:https://prosperacoops.org/wp-content/uploads/2022/10/01.Flyer-MercaditoVirtual-Instagram-Facebook-Cover.png
ORGANIZER;CN="Prospera":MAILTO:info@prosperacoops.org
END:VEVENT
BEGIN:VEVENT
DTSTART;TZID=UTC:20221109T170000
DTEND;TZID=UTC:20221109T190000
DTSTAMP:20260425T194351
CREATED:20221018T154527Z
LAST-MODIFIED:20221107T230343Z
UID:9424-1668013200-1668020400@prosperacoops.org
SUMMARY:Sistema financiero II: Opciones de financiamiento para su negocio pequeño
DESCRIPTION:Descripción del tema:  \nEsta serie de dos talleres tiene como objetivo ampliar nuestro conocimiento de este sistema que tiene tanta influencia en nuestras vidas\, familias y negocios. Entendiendo el sistema\, tenemos más capacidades y libertad para participar de una forma que nos beneficie a nosotras y a nuestra comunidad.  \nTaller II: objetivos de aprendizaje \n\nEntender términos financieros como: préstamos y sus términos\, riesgo\, inversión y sus términos\, y acciones.\nEvaluar los pros y contras de diferentes términos de préstamos e inversiones para lanzar y crecer un negocio. \nDeterminar cuáles opciones de financiamiento son prioritarias para tu negocio.\n\nPresentadoras: Dani Ancin y Daniella Preisler \n 
URL:https://prosperacoops.org/event/sistema-financiero-ii-opciones-de-financiamiento-para-su-negocio-pequeno/
LOCATION:ON-LINE\, United States
CATEGORIES:Prospera
ATTACH;FMTTYPE=image/png:https://prosperacoops.org/wp-content/uploads/2022/10/2-2.png
ORGANIZER;CN="Prospera":MAILTO:info@prosperacoops.org
END:VEVENT
BEGIN:VEVENT
DTSTART;TZID=UTC:20221117T183000
DTEND;TZID=UTC:20221117T200000
DTSTAMP:20260425T194351
CREATED:20221102T202020Z
LAST-MODIFIED:20221102T203334Z
UID:9484-1668709800-1668715200@prosperacoops.org
SUMMARY:Panel Virtual: Acceso a Capital Financiero No Extractivo y Sustentable
DESCRIPTION:En los tantos quehaceres del emprendimiento\, siempre llega la hora de necesitar capital financiero para poder seguir creciendo\, innovar\, o satisfacer alguna necesidad de nuestros negocios y todo lo que conlleva\, ¿tienes alguna opción? Te presentamos no una\, sino varias opciones de acceder a capital financiero\, con entendimiento de los desafíos de nuestras comunidades\, que incluyen más allá de solo adquirir una deuda\, pero también el acompañarte/les a asegurar su éxito\, a fortalecer su crédito y a unirse a una comunidad cada vez más grande y posible gracias a cada une de nosotres\, Acompáñanos! El evento será transmitido en vivo por el pérfil de Facebook de Prospera.\n\nProspera te invita al Panel: “Acceso a Capital financiero\, no extractivo y sustentable”\, en el que contaremos con panelistas que nos compartirán las oportunidades que ofrecen sus organizaciones\, algunas a nivel local (California)\, otras a nivel nacional e incluso\, a nivel internacional. Estas organizaciones comparten valores diferentes y quieren que nuestra comunidad pueda acceder a\, por ejemplo\, pedir un crédito\, a conseguir fondos para poder lanzar sus negocios con intereses razonables o que puedan proyectar el desarrollo/crecimiento del mismo y hasta acompañarles en el proceso.\n\n\nPanelistas:\n\n\nChristina Jennings\, Share Capital Cooperative\nLesly Arrellano\, Centro Community Partners\nScott Trumbull\, The Working World\nSusana Gama\, Mission Asset Fund
URL:https://prosperacoops.org/event/taller-virtual-acceso-a-capital-financiero-no-extractivo-y-sustentable/
LOCATION:ON-LINE\, United States
CATEGORIES:Prospera
ATTACH;FMTTYPE=image/png:https://prosperacoops.org/wp-content/uploads/2022/11/Banner-Flyer-Post-Panel-Acceso-a-Capital-Marzo-2022-Facebook-Cover-3.png
ORGANIZER;CN="Prospera":MAILTO:info@prosperacoops.org
END:VEVENT
BEGIN:VEVENT
DTSTART;TZID=UTC:20221130T180000
DTEND;TZID=UTC:20221130T200000
DTSTAMP:20260425T194351
CREATED:20221018T154813Z
LAST-MODIFIED:20221123T231553Z
UID:9426-1669831200-1669838400@prosperacoops.org
SUMMARY:Conquista con tu comunicación
DESCRIPTION:Descripción del taller:  \n\nLa comunicación es la herramienta principal de las relaciones humanas\, y existe muchas formas de comunicarnos incluso el lenguaje corporal. De eso depende que las personas confíen en tí\, te crean o presten atención más rápido ¡Aprende a usar positivamente la comunicación!\nEn este taller aprenderás técnicas de comunicación que te ayudarán a elevar tu confianza\, a generar credibilidad y tener autocontrol en cada interacción que tengas virtual o presencial.\n\nFacilitadora: Anahi Rojas
URL:https://prosperacoops.org/event/conquista-con-tu-comunicacion-usando-tu-cuerpo/
LOCATION:ON-LINE\, United States
CATEGORIES:Prospera
ATTACH;FMTTYPE=image/png:https://prosperacoops.org/wp-content/uploads/2022/10/Eventos-Crece-Agosto-2022-Banners.png
ORGANIZER;CN="Prospera":MAILTO:info@prosperacoops.org
END:VEVENT
END:VCALENDAR