BEGIN:VCALENDAR
VERSION:2.0
PRODID:-//Prospera - ECPv6.15.17.1//NONSGML v1.0//EN
CALSCALE:GREGORIAN
METHOD:PUBLISH
X-WR-CALNAME:Prospera
X-ORIGINAL-URL:https://prosperacoops.org
X-WR-CALDESC:Events for Prospera
REFRESH-INTERVAL;VALUE=DURATION:PT1H
X-Robots-Tag:noindex
X-PUBLISHED-TTL:PT1H
BEGIN:VTIMEZONE
TZID:UTC
BEGIN:STANDARD
TZOFFSETFROM:+0000
TZOFFSETTO:+0000
TZNAME:UTC
DTSTART:20220101T000000
END:STANDARD
END:VTIMEZONE
BEGIN:VEVENT
DTSTART;TZID=UTC:20230118T180000
DTEND;TZID=UTC:20230118T200000
DTSTAMP:20260424T160952
CREATED:20221212T171240Z
LAST-MODIFIED:20221212T171240Z
UID:9685-1674064800-1674072000@prosperacoops.org
SUMMARY:Taller virtual: Tomando control de tu tiempo y organización personal
DESCRIPTION:Descripción del taller: En la vida moderna\, todos enfrentamos un millón de distracciones que pueden hacer que sea difícil concentrarse o sentirse conscientes y en control de a dónde va nuestro tiempo. En este taller de dos horas\, explorarás (y con suerte mejorarás) tu relación con el tiempo\, la productividad y la confianza en ti mismo. También obtendrás herramientas para organizarte y aumentar significativamente tu capacidad para alcanzar tus objetivos personales y profesionales. \nPresentadora: Eva Orbuch  \nBio: Trabajo de manera holística con personas\, equipos y organizaciones que están comprometidas con generar cambios en sus vidas o comunidades y necesitan ayuda en el proceso. Mis clientes de coaching y consultoría van desde empresarios\, gerentes\, nuevos empleados\, artistas y creadores de cambios. Tengo experiencia como defensora de la equidad educativa y organizadora comunitaria\, lo que me llevó a entrenar a las personas para que encuentren sus propias contribuciones satisfactorias al mundo. Actualmente trabajo como consultora organizacional mientras realizo mi certificación de coaching con el Coactive Training Institute. He tomado una variedad de cursos como co-asesoramiento\, Coaching de Sistemas de Organización y Relaciones\, y Academy for Coaching Excellence. tengo un bachillerato en Estudios Urbanos de la Universidad de Stanford y una Maestría en Educación Urbana de la Universidad Loyola Marymount. Entrelazo una variedad de prácticas espirituales en mi vida y entrenamiento\, como atención plena y meditación\, movimiento\, rituales diseñados personalmente\, ciclos lunares y más.
URL:https://prosperacoops.org/event/taller-virtual-tomando-control-de-tu-tiempo-y-organizacion-personal/
LOCATION:ON-LINE\, United States
CATEGORIES:Prospera
ATTACH;FMTTYPE=image/png:https://prosperacoops.org/wp-content/uploads/2022/12/Enero-Evento-Website-Talleres-Crece-Comunidad.png
ORGANIZER;CN="Prospera":MAILTO:info@prosperacoops.org
END:VEVENT
END:VCALENDAR