BEGIN:VCALENDAR
VERSION:2.0
PRODID:-//Prospera - ECPv6.15.17.1//NONSGML v1.0//EN
CALSCALE:GREGORIAN
METHOD:PUBLISH
X-WR-CALNAME:Prospera
X-ORIGINAL-URL:https://prosperacoops.org
X-WR-CALDESC:Events for Prospera
REFRESH-INTERVAL;VALUE=DURATION:PT1H
X-Robots-Tag:noindex
X-PUBLISHED-TTL:PT1H
BEGIN:VTIMEZONE
TZID:UTC
BEGIN:STANDARD
TZOFFSETFROM:+0000
TZOFFSETTO:+0000
TZNAME:UTC
DTSTART:20220101T000000
END:STANDARD
END:VTIMEZONE
BEGIN:VEVENT
DTSTART;TZID=UTC:20230201T180000
DTEND;TZID=UTC:20230201T200000
DTSTAMP:20260424T160957
CREATED:20230117T183249Z
LAST-MODIFIED:20230117T183249Z
UID:9713-1675274400-1675281600@prosperacoops.org
SUMMARY:Básicos de Tik-Tok para negocios
DESCRIPTION:Descripción del taller:  \nQué es lo mínimo que necesitas para crecer tus seguidores en TikTok\, y lograr seguidores que puedan convertirse en clientes? Temas: a. Edición básica; b. mejores prácticas; c. el lenguaje de las historias (video)\, cómo sucede en el mundo real. \nNo te pierdas este taller y Aprende a configurar una cuenta de TikTok para empresa y crea una estrategia ganadora en la plataforma de los mil millones de usuarios. \nPresentador: Alex Berrea  \nBio:  Alejandro es un emprendedor de impacto con tintes creativos. Ha creado y vendido 3 marcas en las industrias de capacitación e idiomas. Ha funcionado como consultor Senior en Transformación Digital para startups en Silicon Valley y actualmente está desarrollando su startup en tecnologías para educación. Hoy en día invierte su tiempo armando Legos con sus hijas\, en talleres de marketing digital para pequeños empresarios\, y en temas de contenido digital.
URL:https://prosperacoops.org/event/basicos-de-tik-tok-para-negocios/
LOCATION:ON-LINE\, United States
CATEGORIES:Prospera
ATTACH;FMTTYPE=image/png:https://prosperacoops.org/wp-content/uploads/2023/01/1.png
ORGANIZER;CN="Prospera":MAILTO:info@prosperacoops.org
END:VEVENT
BEGIN:VEVENT
DTSTART;TZID=UTC:20230215T180000
DTEND;TZID=UTC:20230215T200000
DTSTAMP:20260424T160957
CREATED:20230117T183929Z
LAST-MODIFIED:20230117T183929Z
UID:9720-1676484000-1676491200@prosperacoops.org
SUMMARY:6 tips para manejar tus finanzas personales y empresariales
DESCRIPTION:Descripción del taller: Tener una buena administración de tus finanzas personales y empresariales es esencial.  Es la clave para el éxito financiero\, ya que te ayuda a alcanzar tus metas financieras y reducir el estrés financiero.  Aprende 6 consejos prácticos que puedes aplicar a tu vida cotidiana y a tu negocio.  Esta clase ofrece herramientas y conocimientos para que puedas tomar el control de tus finanzas personales y empresariales. Al final del taller\, tendrás la confianza y las habilidades necesarias para tomar decisiones financieras inteligentes. \n¿Estás lista para tomar control de tus finanzas?  \nPresentadora: Viridiana Ponce \nBio:  Viridiana Ponce\, asesora y fundadora de VP Consulting\, ayuda a empresas latinas a lanzar y crecer. Es una experta en finanzas\, pequeños negocios y en la industria de la comida. Se enfoca en educación  financiara\, proyecciones\, acceso a capital y crear planes de acción. Empezó su negocio VP Consulting en 2014\, para ayudar a otros como su familia: Inmigrantes\, Emprendedores\, Latinos. Su misión es educar\, enriquecer y empoderar a su comunidad.
URL:https://prosperacoops.org/event/6-tips-para-manejar-tus-finanzas-personales-y-empresariales/
LOCATION:ON-LINE\, United States
CATEGORIES:Prospera
ATTACH;FMTTYPE=image/png:https://prosperacoops.org/wp-content/uploads/2023/01/3.png
END:VEVENT
END:VCALENDAR