BEGIN:VCALENDAR
VERSION:2.0
PRODID:-//Prospera - ECPv6.15.17.1//NONSGML v1.0//EN
CALSCALE:GREGORIAN
METHOD:PUBLISH
X-WR-CALNAME:Prospera
X-ORIGINAL-URL:https://prosperacoops.org
X-WR-CALDESC:Events for Prospera
REFRESH-INTERVAL;VALUE=DURATION:PT1H
X-Robots-Tag:noindex
X-PUBLISHED-TTL:PT1H
BEGIN:VTIMEZONE
TZID:UTC
BEGIN:STANDARD
TZOFFSETFROM:+0000
TZOFFSETTO:+0000
TZNAME:UTC
DTSTART:20220101T000000
END:STANDARD
END:VTIMEZONE
BEGIN:VEVENT
DTSTART;TZID=UTC:20230607T180000
DTEND;TZID=UTC:20230607T200000
DTSTAMP:20260422T214240
CREATED:20230515T192045Z
LAST-MODIFIED:20230515T192045Z
UID:9990-1686160800-1686168000@prosperacoops.org
SUMMARY:Bases para emprender exitosamente
DESCRIPTION:Descripción del taller:  Contar con una estrategia definida nos ayuda como emprendedores a reconocer\,desde nuestro contexto actual\, cuál es la ruta\, acciones y herramientas clave que debemos de tomar para obtener la máxima productividad posible y alcanzar los objetivos que hemos planteado para el futuro de nuestro negocio. \nPresentadora: Gisela Robles Linares Cházaro \nBio: Tiene una trayectoria de más de 15 años como Administradora Pública especializada en Innovación Empresarial\, con experiencia en la creación y ejecución de estrategias de comunicación\, vinculación y administración de proyectos tanto en el sector público como en la iniciativa privada para diferentes industrias como son automotriz\, educativa y transportes. \nEs consultora en desarrollo organizacional para gobiernos locales\, así como en estrategia de negocios para empresas privadas. Asimismo\, en los últimos años ha estado inmersa en el ecosistema emprendedor en donde por medio del diseño e impartición de programas de entrenamiento y asesorías 1 a 1 en estrategia de negocios\, comparte herramientas y experiencias para que los dueños de negocio transformen sus ideas creativas en empresas que les permita generar valor y competir en su mercado. \n  \nEs Directora de Operaciones de Marketea Digital Services\, una agencia de comunicación y marketing estratégico que atiende principalmente a organizaciones\, así como empresas y negocios locales establecidos en California.
URL:https://prosperacoops.org/event/bases-para-emprender-exitosamente-2/
LOCATION:ON-LINE\, United States
CATEGORIES:Prospera
ATTACH;FMTTYPE=image/png:https://prosperacoops.org/wp-content/uploads/2023/05/6.png
ORGANIZER;CN="Prospera":MAILTO:info@prosperacoops.org
END:VEVENT
BEGIN:VEVENT
DTSTART;TZID=UTC:20230614T180000
DTEND;TZID=UTC:20230614T200000
DTSTAMP:20260422T214240
CREATED:20230515T192349Z
LAST-MODIFIED:20230515T192349Z
UID:9993-1686765600-1686772800@prosperacoops.org
SUMMARY:Transmite tu mensaje con claridad en 5 pasos.
DESCRIPTION:Descripción del taller:  Aprender a comunicar nuestras ideas con claridad al tener presentaciones\, entrevistas\, grabar videos o hacer lives\, demanda la organización previa de la información. En esta clase aprenderás a preparar tu mensaje en 5 pasos prácticos y efectivos\, que te ayudarán a comunicar tu mensaje con claridad\, enfoque y asertividad.  \nPresentadora: Damaris Echeverría Soto \nBio: Experta en comunicación asertiva y desarrollo de habilidades comunicativas. Comunicóloga de profesión\, escritora por hobbie y emprendedora por decisión. Presentadora en el programa “Acceso Total” transmitido por Telemundo 48. Escribo desde los once años de edad\, disfruto contar historias y ahora a través de mis artículos comparto herramientas para el desarrollo personal\, espiritual y emocional. He impartido talleres y cursos a nivel nacional desde el año 2014 a la fecha en temas de liderazgo\, comunicación\, ventas y empatía\, logrando capacitar a cientos de personas durante todo este tiempo. \nMi pasión se centra en ayudar a las personas a desarrollar las habilidades comunicativas necesarias para hacer de la comunicación un arte\, basada en sus propias fortalezas\, virtudes y estilo. \n 
URL:https://prosperacoops.org/event/transmite-tu-mensaje-con-claridad-en-5-pasos/
LOCATION:ON-LINE\, United States
CATEGORIES:Prospera
ATTACH;FMTTYPE=image/png:https://prosperacoops.org/wp-content/uploads/2023/05/4.png
ORGANIZER;CN="Prospera":MAILTO:info@prosperacoops.org
END:VEVENT
BEGIN:VEVENT
DTSTART;TZID=UTC:20230621T180000
DTEND;TZID=UTC:20230621T200000
DTSTAMP:20260422T214240
CREATED:20230515T192628Z
LAST-MODIFIED:20230515T192628Z
UID:9996-1687370400-1687377600@prosperacoops.org
SUMMARY:Lo que hay detrás de un Sitio Web
DESCRIPTION:Descripción del taller:  Ven a  familiarizarte con los diferentes elementos que componen un sitio web y prepara el contenido que deseas ver en tu página para después sólo vaciar en el servidor. Hablaremos de las diferentes opciones de alojamiento para tu página y cómo acceder a un domain name para tu negocio. \nPresentadora: Celia Álvarez Prado \nBio: Celia es emprendedora del negocio cooperativo DE COLORES C. CONSULTING junto a otras dos socias. Celia ha sido participante en los programas de Próspera como CRECE COMUNIDAD\, el Fellowship\, el comité LERF y también ha facilitado en línea los talleres de EXPLORA TU COOPERATIVA después que iniciara la pandemia. Es madre de dos jóvenes y le apasiona la música y el dibujo. \n 
URL:https://prosperacoops.org/event/lo-que-hay-detras-de-un-sitio-web-2/
LOCATION:ON-LINE\, United States
CATEGORIES:Prospera
ATTACH;FMTTYPE=image/png:https://prosperacoops.org/wp-content/uploads/2023/05/2-1.png
ORGANIZER;CN="Prospera":MAILTO:info@prosperacoops.org
END:VEVENT
BEGIN:VEVENT
DTSTART;TZID=UTC:20230626T170000
DTEND;TZID=UTC:20230626T183000
DTSTAMP:20260422T214240
CREATED:20230531T211130Z
LAST-MODIFIED:20230601T194453Z
UID:10061-1687798800-1687804200@prosperacoops.org
SUMMARY:Introducción a Entidades Empresariales para Pequeñas y Medianas Empresas
DESCRIPTION:Descripción del taller: Este taller educativo está diseñado para brindarle una descripción general de las diversas entidades empresariales que están disponibles para usted si decide iniciar su propio negocio (p. ej.\, Compañía de Responsabilidad Limitada (“LLC”)\, Corporación\, Empresa unipersonal\, Cooperativa\, etc.). También se enfocará en algunas de las consecuencias legales y fiscales de cada una de las entidades empresariales y será un primer paso importante para entender las consecuencias a sus operaciones y elegir la estructura legal que mejor se adapte a sus necesidades. A través de éste taller educativo\, compartiremos información que es útil para entender los conceptos básicos de los pasos y documentos legales involucrados\, así como ciertos costos asociados.   \nPresentadores: Eduardo Magana/Drew Glover
URL:https://prosperacoops.org/event/conoce-sobre-estructuras-legales/
LOCATION:ON-LINE\, United States
CATEGORIES:Prospera
ATTACH;FMTTYPE=image/png:https://prosperacoops.org/wp-content/uploads/2023/05/Eventos-Crece-Banners-2.png
ORGANIZER;CN="Prospera":MAILTO:info@prosperacoops.org
END:VEVENT
END:VCALENDAR