BEGIN:VCALENDAR
VERSION:2.0
PRODID:-//Prospera - ECPv6.15.17.1//NONSGML v1.0//EN
CALSCALE:GREGORIAN
METHOD:PUBLISH
X-WR-CALNAME:Prospera
X-ORIGINAL-URL:https://prosperacoops.org
X-WR-CALDESC:Events for Prospera
REFRESH-INTERVAL;VALUE=DURATION:PT1H
X-Robots-Tag:noindex
X-PUBLISHED-TTL:PT1H
BEGIN:VTIMEZONE
TZID:UTC
BEGIN:STANDARD
TZOFFSETFROM:+0000
TZOFFSETTO:+0000
TZNAME:UTC
DTSTART:20250101T000000
END:STANDARD
END:VTIMEZONE
BEGIN:VEVENT
DTSTART;TZID=UTC:20260421T173000
DTEND;TZID=UTC:20260421T193000
DTSTAMP:20260419T222103
CREATED:20260409T181820Z
LAST-MODIFIED:20260410T173125Z
UID:12135-1776792600-1776799800@prosperacoops.org
SUMMARY:Panel virtual: Experiencias y Recursos para las economías alternativas
DESCRIPTION:Panel virtual: Experiencias y Recursos para  las economías alternativas \nTe invitamos a ser parte de un panel inspirador con dos mujeres cooperativistas que compartirán sus experiencias reales sobre cómo han enfrentado los desafíos para acceder a capital y construir modelos económicos más justos. \nEscucha de primera mano las historias de emprendedoras dueñas y trabajadoras de negocios cooperativos que han desafiado las estructuras tradicionales para crear oportunidades sostenibles para ellas\, sus familias y sus comunidades. \nAdemás\, contaremos con la participación de dos representantes de organizaciones comprometidas con el acceso a capital no extractivo\, quienes compartirán alternativas más inclusivas y alineadas con los valores comunitarios. \nSabemos que muchas veces\, como comunidad\, encontramos puertas cerradas al buscar financiamiento para nuestros proyectos. Solemos acudir a bancos tradicionales que imponen requisitos difíciles de cumplir y que\, en muchos casos\, no comprenden el modelo cooperativo. Si esto te suena familiar\, este espacio es para ti. \n¿Qué puedes esperar? \n\nExperiencias reales de cooperativistas\nAprendizajes prácticos sobre acceso a capital\nAlternativas financieras más justas\nUn espacio de diálogo y comunidad\n\n📲 Únete a través de Facebook Live en nuestra página @prosperabayarea y sé parte de esta conversación que impulsa un futuro más equitativo y sostenible. \n\nMartes 21 de abril de 2026\n5:30 pm a 7:30 pm PST\n\n¡Te esperamos! No faltes. \nINVITADAS COOPERATIVISTAS: \nAriadna Morales | Cooperativa Corazón y Pueblo Consulting \n\nCo-fundadora\, Corazón y Pueblo Consulting\nEs facilitadora y coach bilingüe.\nCorazón y Pueblo Consulting es una cooperativa arraigada en la justicia racial y económica. \nNacida en Oaxaca y criada en San José\, cuenta con más de una década de experiencia apoyando el desarrollo de liderazgo\, el empoderamiento económico y soluciones arraigadas en la comunidad.\nSu trabajo se basa en la educación popular y el cuidado colectivo. \nAriadna acompaña a organizaciones y líderes en el impulso de economías comunitarias\, el emprendimiento y la prosperidad compartida. \nAporta calidez\, claridad y estrategia a espacios enfocados en construir futuros más justos y sostenibles.\nEn lo personal\, es mamá de dos y le encanta ser creativa\, divertirse y disfrutar los pequeños momentos.\n\nWEBSITE: https://corazonypuebloconsulting.com  \nEMAIL: corazonypuebloconsulting@gmail.com \nGuadalupe Perez | De Colores C. Consulting \n\nEs propietaria y cofundadora de De Colores C. Consulting.\nMexicana con un corazón oaxaqueño; emigró a los Estados Unidos hace 21 años.\nCree en la construcción de una economía sostenible\, la solidaridad\, el cooperativismo\, el bienestar humano y la armonía con el medio ambiente.\nCuenta con 25 años de experiencia trabajando con la comunidad\, apoyando campañas que promueven la salud y cambios en las políticas públicas.\nEs una mujer indígena que desempeña múltiples roles: madre\, esposa\, hija\, hermana\, amiga\, líder comunitaria y emprendedora.\nActualmente\, utiliza sus habilidades para apoyar a otras mujeres\, ayudándolas a cumplir sus sueños\, tal como ella lo hizo.\n\nWEBSITE: https://decolorescconsulting.com \nFACEBOOK: https://www.facebook.com/decoloresCconsulting \n \nINVITADAS DE ACCESO A CAPITAL: \n____________________ \nDaniella Preisler | Shared Capital \n\n(Ella/she) es Oficial de Préstamos en Shared Capital\nAcompaña a cooperativas y organizaciones con misión social a acceder a capital no extractivo. \nOriginaria de Chile\, cuenta con más de diez años de experiencia en el movimiento cooperativo. \nSu experiencia incluye el trabajo como desarrolladora de cooperativas\, asesora par y parte de juntas directivas a nivel local e internacional. \nEs cofundadora de Colmenar Cooperative Consulting\nActualmente es Presidenta de CICOPA América del Norte \nVicepresidenta de CICOPA Américas.\n\nWEBSITE: https://sharedcapital.coop/ \nFACEBOOK: https://www.facebook.com/SharedCapitalCooperative \nLINKEDIN: https://www.linkedin.com/company/shared-capital-cooperative/ \nINSTAGRAM: https://www.instagram.com/shared_capital_cooperative/ \nEMAIL: daniella@sharedcapital.coop \nSusana Gama | Mission Asset Fund (MAF)  \n\nAsesora Financiera y de negocios en MAF por casi 8 años.\n\n\nMAF es una organización sin fines de lucro que se dedica a empoderar a personas y comunidades a través de programas de préstamos sociales\, educación financiera y oportunidades de emprendimiento\n\n\nSusana ha trabajado en el Área de la Bahía para la comunidad Latina en diversas organizaciones sin fines de lucro por los últimos 20 años.\n\n\nEntiende los desafíos de su comunidad\, pues como inmigrante\, tuvo que aprender por sí misma a navegar el sistema financiero de los Estados Unidos. \n\n\nLe apasiona ver a las personas triunfar tanto en sus finanzas personales como con sus emprendimientos.\n\nWebsite: https://www.missionassetfund.org/ \nEmail: programs@missionassetfund.org \nFACEBOOK: @MissionAssetFund.org \nTWITTER: @MAFpajarito \nINSTAGRAM: @MissionAssetFund \n \n 
URL:https://prosperacoops.org/event/panel-virtual-experiencias-y-recursos-para-las-economias-alternativas/
LOCATION:ON-LINE\, United States
CATEGORIES:Prospera
ATTACH;FMTTYPE=image/png:https://prosperacoops.org/wp-content/uploads/2026/04/2026-PANEL-EXPERIENCIAS-Y-RECURSOS-PARA-LAS-ECONOMIAS-ALTERNATIVAS-2026-Promo-Facebook-Medium-Banner-US-Landscape-scaled.png
ORGANIZER;CN="Prospera":MAILTO:info@prosperacoops.org
END:VEVENT
BEGIN:VEVENT
DTSTART;TZID=UTC:20260430T170000
DTEND;TZID=UTC:20260702T200000
DTSTAMP:20260419T222103
CREATED:20260316T212359Z
LAST-MODIFIED:20260316T212359Z
UID:12087-1777568400-1783022400@prosperacoops.org
SUMMARY:Curso Virtual: Planea tu Negocio Primavera Verano 2026
DESCRIPTION:Descripción del curso:  \nEn Prospera\, promovemos economías justas y solidarias mientras brindamos herramientas esenciales para el éxito empresarial. El plan de negocios es una guía clave para estructurar\, operar y hacer crecer tu negocio\, ya sea cooperativo o convencional. Además\, te ayudará a presentar tu proyecto a inversores y aceleradoras. \n¿Qué aprenderás en este curso? \n\nMentalidad emprendedora y visión estratégica.\nDefinición de negocio: misión\, valores y propuesta de valor.\nAnálisis de mercado: industria\, clientes y competencia.\nEstrategia comercial: productos\, precios y ventas.\nOperaciones y finanzas: costos\, metas y acceso a capital.\nFormalización y plan de negocios.\n\nAdquiere las herramientas para lanzar o fortalecer tu negocio. ¡Inscríbete y empieza a planear tu éxito! \n¿Qué esperar de este curso de plan de negocios? \n\nEste curso consta de 10 sesiones (9 online\, 1 graduación en persona en Oakland CA) donde proveeremos diversas herramientas usando tecnología como documentos de google y hojas de cálculo\, entre otros\,  para ayudar a llegar a ese plan de negocio que deseas. \nEs un curso de 30 horas\, que además de dar herramientas\, te guía por el camino de entender tu negocio y a ti como dueña de este. Las sesiones son interactivas\, divertidas y participativas. \nAdemás de crear tu plan de negocios recibirás un certificado de completación del curso y tendrás la oportunidad de festejar con el equipo y tus compañeras en una fiesta de graduación. (Julio 2\, 2026 – 05:00 PM – 08:00 PM en el 1203 Preservation Park way\, Oakland CA 94612 )\n\n Fechas de las sesiones\, enlaces de zoom y ubicación:  \n\nAbril 30 – 05:00 PM – 08:00 PM – Zoom\nMayo 7 – 05:00 PM – 08:00 PM – Zoom \nMayo 14 – 05:00 PM – 08:00 PM – Zoom \nMayo 21 – 05:00 PM – 08:00 PM – Zoom \nMayo 28 – 05:00 PM – 08:00 PM – Zoom \nJunio 4- 05:00 PM – 08:00 PM – Zoom    \nJunio 11 – 05:00 PM – 08:00 PM – Zoom \nJunio 18- 05:00 PM – 08:00 PM – Zoom \nJunio 25- 05:00 PM – 08:00 PM – Zoom \nJulio 2 – 05:00 PM – 08:00 PM – Graduación Presencial en 1203 Preservation Park way\, Oakland CA 94612\n\nRequisitos para participar: \n\nAtender a todas las sesiones (para poder recibir tu certificado de completación del curso\, se tiene que asistir mínimo al 80% de las sesiones del curso)\nLlenar la evaluación de cada sesión\nVenir preparada para participar durante la clase y actividades (Este es un curso participativo)\nPuntualidad – Se iniciarán las clases a las 5:00 pm PST\nPreparar cualquier tarea antes de la clase\nTomar responsabilidad de agendar tu tiempo para la sesión o asesorías\nCompartir tus avances y al término del curso entregar tu plan de negocios con Prospera (los planes de negocios se mantendrán confidenciales. El compartirlo con Prospera es para ayudarnos a monitorear y comunicar el impacto del programa)\nGraduarse del curso\n\nEste curso es de cupo limitado. ¡Gracias por llenar este formulario de inscripción con anticipación! \nInformación adicional:  \n\nEl curso se ofrece en español y es GRATIS con un valor estimado de $3\,500\nLa sesión 10 es en persona\, En 1203 Preservation Park way\, Oakland CA 94612\nContacto para apoyo en registracion:  Elisa Santillan – elisa@prosperacoops.org\n\nPresentadoras: PROSPERA:  \n\nElisa Santillan (Líder del equipo de alcance y comunidad) Presentadora\nDayanna Montano (Entrenadora en entrenamiento) Presentadora \n\n 
URL:https://prosperacoops.org/event/curso-virtual-planea-tu-negocio-primavera-verano-2026/
LOCATION:ON-LINE\, United States
CATEGORIES:Prospera
ATTACH;FMTTYPE=image/png:https://prosperacoops.org/wp-content/uploads/2026/03/Planea-tu-negocio-Primavera-Verano-2026-2.png
ORGANIZER;CN="Prospera":MAILTO:info@prosperacoops.org
END:VEVENT
END:VCALENDAR